Workbook

Sheet 1
C5: OGT Recovery | L5: OGT Recovery | U5: OGT Recovery
C7: Symbol | E7: Margin | F7: Commision (1 Lot) | L7: Symbol | N7: Margin | O7: Commision (1 Lot) | U7: Symbol | W7: Margin | X7: Commision (1 Lot)
C10: NZDUSD | E10: =VLOOKUP(C10,'2'!$B$5:$C$40,2,0) -> 360.3 | F10: =VLOOKUP(C10,'2'!$B$5:$D$40,3,0) -> 5.04 | L10: GBPAUD | N10: =VLOOKUP(L10,'2'!$B$5:$C$40,2,0) -> 695.15 | O10: =VLOOKUP(L10,'2'!$B$5:$D$40,3,0) -> 9.73 | U10: NZDCAD | W10: =VLOOKUP(U10,'2'!$B$5:$C$40,2,0) -> 360.3 | X10: =VLOOKUP(U10,'2'!$B$5:$D$40,3,0) -> 5.04
C13: Pip Calculator Non USD Pairs (USD Account) | L13: Pip Calculator Non USD Pairs (USD Account) | U13: Pip Calculator Non USD Pairs (USD Account)
C14: Curent Price | E14: 10 | F14: Pip Value | L14: Curent Price | N14: 10 | O14: Pip Value | U14: Curent Price | W14: 10 | X14: Pip Value
E15: =1/C15 -> #DIV/0! | F15: =10/E15 -> #DIV/0! | L15: 1.78512 | N15: =1/L15 -> 0.56018643 | O15: =10/N15 -> 17.8512 | U15: 1.2619 | W15: =1/U15 -> 0.79245582 | X15: =10/W15 -> 12.619
F17: Win | H17: Loss | O17: Win | Q17: Loss | X17: Win | Z17: Loss
F19: Pips/ Value | O19: Pips/ Value | X19: Pips/ Value
C20: Lot | D20: Commision | E20: Margin | F20: 20 | G20: Value | H20: 25 | I20: Value | L20: Lot | M20: Commision | N20: Margin | O20: 33 | P20: Value | Q20: 38 | R20: Value | U20: Lot | V20: Commision | W20: Margin | X20: 32 | Y20: Value | Z20: 37 | AA20: Value
C22: 1 | D22: =C22*$F$10 -> 5.04 | E22: =C22*$E$10 -> 360.3 | F22: =C22*$F$20 -> 20 | G22: =F22*$E$14-D22 -> 194.96 | H22: =C22*$H$20 -> 25 | I22: =H22*$E$14 -> 250 | L22: 0.45 | M22: =L22*$O$10 -> 4.3785 | N22: =L22*$N$10 -> 312.8175 | O22: =L22*$O$20 -> 14.85 | P22: =O22*$E$14-M22 -> 144.1215 | Q22: =L22*$Q$20 -> 17.1 | R22: =Q22*$E$14 -> 171 | U22: =L22/2 -> 0.225 | V22: =U22*$F$10 -> 1.134 | W22: =U22*$W$10 -> 81.0675 | X22: =U22*$X$20 -> 7.2 | Y22: =X22*$E$14-V22 -> 70.866 | Z22: =U22*$Z$20 -> 8.325 | AA22: =Z22*$E$14 -> 83.25
C23: 1.4 | D23: =C23*$F$10 -> 7.056 | E23: =C23*$E$10 -> 504.42 | F23: =C23*$F$20 -> 28 | G23: =F23*$E$14-D23 -> 272.944 | H23: =C23*$H$20 -> 35 | I23: =H23*$E$14 -> 350 | L23: 0.665 | M23: =L23*$O$10 -> 6.47045 | N23: =L23*$N$10 -> 462.27475 | O23: =L23*$O$20 -> 21.945 | P23: =O23*$E$14-M23 -> 212.97955 | Q23: =L23*$Q$20 -> 25.27 | R23: =Q23*$E$14 -> 252.7 | U23: =L23/2 -> 0.3325 | V23: =U23*$F$10 -> 1.6758 | W23: =U23*$W$10 -> 119.79975 | X23: =U23*$X$20 -> 10.64 | Y23: =X23*$E$14-V23 -> 104.7242 | Z23: =U23*$Z$20 -> 12.3025 | AA23: =Z23*$E$14 -> 123.025
C24: 1 | D24: =C24*$F$10 -> 5.04 | E24: =C24*$E$10 -> 360.3 | F24: =C24*$F$20 -> 20 | G24: =F24*$E$14-D24 -> 194.96 | H24: =C24*$H$20 -> 25 | I24: =H24*$E$14 -> 250 | L24: 0.45 | M24: =L24*$O$10 -> 4.3785 | N24: =L24*$N$10 -> 312.8175 | O24: =L24*$O$20 -> 14.85 | P24: =O24*$E$14-M24 -> 144.1215 | Q24: =L24*$Q$20 -> 17.1 | R24: =Q24*$E$14 -> 171 | U24: =L24/2 -> 0.225 | V24: =U24*$F$10 -> 1.134 | W24: =U24*$W$10 -> 81.0675 | X24: =U24*$X$20 -> 7.2 | Y24: =X24*$E$14-V24 -> 70.866 | Z24: =U24*$Z$20 -> 8.325 | AA24: =Z24*$E$14 -> 83.25
C25: 1.4 | D25: =C25*$F$10 -> 7.056 | E25: =C25*$E$10 -> 504.42 | F25: =C25*$F$20 -> 28 | G25: =F25*$E$14-D25 -> 272.944 | H25: =C25*$H$20 -> 35 | I25: =H25*$E$14 -> 350 | L25: 0.665 | M25: =L25*$O$10 -> 6.47045 | N25: =L25*$N$10 -> 462.27475 | O25: =L25*$O$20 -> 21.945 | P25: =O25*$E$14-M25 -> 212.97955 | Q25: =L25*$Q$20 -> 25.27 | R25: =Q25*$E$14 -> 252.7 | U25: =L25/2 -> 0.3325 | V25: =U25*$F$10 -> 1.6758 | W25: =U25*$W$10 -> 119.79975 | X25: =U25*$X$20 -> 10.64 | Y25: =X25*$E$14-V25 -> 104.7242 | Z25: =U25*$Z$20 -> 12.3025 | AA25: =Z25*$E$14 -> 123.025
C26: 1.9 | D26: =C26*$F$10 -> 9.576 | E26: =C26*$E$10 -> 684.57 | F26: =C26*$F$20 -> 38 | G26: =F26*$E$14-D26 -> 370.424 | H26: =C26*$H$20 -> 47.5 | I26: =H26*$E$14 -> 475 | L26: 0.95 | M26: =L26*$O$10 -> 9.2435 | N26: =L26*$N$10 -> 660.3925 | O26: =L26*$O$20 -> 31.35 | P26: =O26*$E$14-M26 -> 304.2565 | Q26: =L26*$Q$20 -> 36.1 | R26: =Q26*$E$14 -> 361 | U26: =L26/2 -> 0.475 | V26: =U26*$F$10 -> 2.394 | W26: =U26*$W$10 -> 171.1425 | X26: =U26*$X$20 -> 15.2 | Y26: =X26*$E$14-V26 -> 149.606 | Z26: =U26*$Z$20 -> 17.575 | AA26: =Z26*$E$14 -> 175.75
C27: 2.5 | D27: =C27*$F$10 -> 12.6 | E27: =C27*$E$10 -> 900.75 | F27: =C27*$F$20 -> 50 | G27: =F27*$E$14-D27 -> 487.4 | H27: =C27*$H$20 -> 62.5 | I27: =H27*$E$14 -> 625 | L27: 1.15 | M27: =L27*$O$10 -> 11.1895 | N27: =L27*$N$10 -> 799.4225 | O27: =L27*$O$20 -> 37.95 | P27: =O27*$E$14-M27 -> 368.3105 | Q27: =L27*$Q$20 -> 43.7 | R27: =Q27*$E$14 -> 437 | U27: =L27/2 -> 0.575 | V27: =U27*$F$10 -> 2.898 | W27: =U27*$W$10 -> 207.1725 | X27: =U27*$X$20 -> 18.4 | Y27: =X27*$E$14-V27 -> 181.102 | Z27: =U27*$Z$20 -> 21.275 | AA27: =Z27*$E$14 -> 212.75
C28: =C27*1.33 -> 3.325 | D28: =C28*$F$10 -> 16.758 | E28: =C28*$E$10 -> 1197.9975 | F28: =C28*$F$20 -> 66.5 | G28: =F28*$E$14-D28 -> 648.242 | H28: =C28*$H$20 -> 83.125 | I28: =H28*$E$14 -> 831.25 | L28: 1.35 | M28: =L28*$O$10 -> 13.1355 | N28: =L28*$N$10 -> 938.4525 | O28: =L28*$O$20 -> 44.55 | P28: =O28*$E$14-M28 -> 432.3645 | Q28: =L28*$Q$20 -> 51.3 | R28: =Q28*$E$14 -> 513 | U28: =L28/2 -> 0.675 | V28: =U28*$F$10 -> 3.402 | W28: =U28*$W$10 -> 243.2025 | X28: =U28*$X$20 -> 21.6 | Y28: =X28*$E$14-V28 -> 212.598 | Z28: =U28*$Z$20 -> 24.975 | AA28: =Z28*$E$14 -> 249.75
C29: =C28*1.33 -> 4.42225 | D29: =C29*$F$10 -> 22.28814 | E29: =C29*$E$10 -> 1593.3367 | F29: =C29*$F$20 -> 88.445 | G29: =F29*$E$14-D29 -> 862.16186 | H29: =C29*$H$20 -> 110.55625 | I29: =H29*$E$14 -> 1105.5625 | L29: 1.65 | M29: =L29*$O$10 -> 16.0545 | N29: =L29*$N$10 -> 1146.9975 | O29: =L29*$O$20 -> 54.45 | P29: =O29*$E$14-M29 -> 528.4455 | Q29: =L29*$Q$20 -> 62.7 | R29: =Q29*$E$14 -> 627 | U29: =L29/2 -> 0.825 | V29: =U29*$F$10 -> 4.158 | W29: =U29*$W$10 -> 297.2475 | X29: =U29*$X$20 -> 26.4 | Y29: =X29*$E$14-V29 -> 259.842 | Z29: =U29*$Z$20 -> 30.525 | AA29: =Z29*$E$14 -> 305.25
C30: =C29*1.33 -> 5.8815925 | D30: =C30*$F$10 -> 29.643226 | E30: =C30*$E$10 -> 2119.1378 | F30: =C30*$F$20 -> 117.63185 | G30: =F30*$E$14-D30 -> 1146.6753 | H30: =C30*$H$20 -> 147.03981 | I30: =H30*$E$14 -> 1470.3981 | L30: 2.2 | M30: =L30*$O$10 -> 21.406 | N30: =L30*$N$10 -> 1529.33 | O30: =L30*$O$20 -> 72.6 | P30: =O30*$E$14-M30 -> 704.594 | Q30: =L30*$Q$20 -> 83.6 | R30: =Q30*$E$14 -> 836 | U30: =L30/2 -> 1.1 | V30: =U30*$F$10 -> 5.544 | W30: =U30*$W$10 -> 396.33 | X30: =U30*$X$20 -> 35.2 | Y30: =X30*$E$14-V30 -> 346.456 | Z30: =U30*$Z$20 -> 40.7 | AA30: =Z30*$E$14 -> 407
C31: =C30*1.33 -> 7.822518 | D31: =C31*$F$10 -> 39.425491 | E31: =C31*$E$10 -> 2818.4532 | F31: =C31*$F$20 -> 156.45036 | G31: =F31*$E$14-D31 -> 1525.0781 | H31: =C31*$H$20 -> 195.56295 | I31: =H31*$E$14 -> 1955.6295 | L31: =L30*1.11 -> 2.442 | M31: =L31*$O$10 -> 23.76066 | N31: =L31*$N$10 -> 1697.5563 | O31: =L31*$O$20 -> 80.586 | P31: =O31*$E$14-M31 -> 782.09934 | Q31: =L31*$Q$20 -> 92.796 | R31: =Q31*$E$14 -> 927.96 | U31: =L31/2 -> 1.221 | V31: =U31*$F$10 -> 6.15384 | W31: =U31*$W$10 -> 439.9263 | X31: =U31*$X$20 -> 39.072 | Y31: =X31*$E$14-V31 -> 384.56616 | Z31: =U31*$Z$20 -> 45.177 | AA31: =Z31*$E$14 -> 451.77
C32: =C31*1.33 -> 10.403949 | D32: =C32*$F$10 -> 52.435903 | E32: =C32*$E$10 -> 3748.5428 | F32: =C32*$F$20 -> 208.07898 | G32: =F32*$E$14-D32 -> 2028.3539 | H32: =C32*$H$20 -> 260.09872 | I32: =H32*$E$14 -> 2600.9872 | L32: =L31*1.11 -> 2.71062 | M32: =L32*$O$10 -> 26.374333 | N32: =L32*$N$10 -> 1884.2875 | O32: =L32*$O$20 -> 89.45046 | P32: =O32*$E$14-M32 -> 868.13027 | Q32: =L32*$Q$20 -> 103.00356 | R32: =Q32*$E$14 -> 1030.0356 | U32: =L32/2 -> 1.35531 | V32: =U32*$F$10 -> 6.8307624 | W32: =U32*$W$10 -> 488.31819 | X32: =U32*$X$20 -> 43.36992 | Y32: =X32*$E$14-V32 -> 426.86844 | Z32: =U32*$Z$20 -> 50.14647 | AA32: =Z32*$E$14 -> 501.4647
C33: =C32*1.33 -> 13.837252 | D33: =C33*$F$10 -> 69.739751 | E33: =C33*$E$10 -> 4985.5619 | F33: =C33*$F$20 -> 276.74504 | G33: =F33*$E$14-D33 -> 2697.7107 | H33: =C33*$H$20 -> 345.9313 | I33: =H33*$E$14 -> 3459.313 | L33: =L32*1.11 -> 3.0087882 | M33: =L33*$O$10 -> 29.275509 | N33: =L33*$N$10 -> 2091.5591 | O33: =L33*$O$20 -> 99.290011 | P33: =O33*$E$14-M33 -> 963.6246 | Q33: =L33*$Q$20 -> 114.33395 | R33: =Q33*$E$14 -> 1143.3395 | U33: =L33/2 -> 1.5043941 | V33: =U33*$F$10 -> 7.5821463 | W33: =U33*$W$10 -> 542.03319 | X33: =U33*$X$20 -> 48.140611 | Y33: =X33*$E$14-V33 -> 473.82397 | Z33: =U33*$Z$20 -> 55.662582 | AA33: =Z33*$E$14 -> 556.62582
C34: =C33*1.33 -> 18.403545 | D34: =C34*$F$10 -> 92.753869 | E34: =C34*$E$10 -> 6630.7974 | F34: =C34*$F$20 -> 368.07091 | G34: =F34*$E$14-D34 -> 3587.9552 | H34: =C34*$H$20 -> 460.08863 | I34: =H34*$E$14 -> 4600.8863 | L34: =L33*1.11 -> 3.3397549 | M34: =L34*$O$10 -> 32.495815 | N34: =L34*$N$10 -> 2321.6306 | O34: =L34*$O$20 -> 110.21191 | P34: =O34*$E$14-M34 -> 1069.6233 | Q34: =L34*$Q$20 -> 126.91069 | R34: =Q34*$E$14 -> 1269.1069 | U34: =L34/2 -> 1.6698775 | V34: =U34*$F$10 -> 8.4161824 | W34: =U34*$W$10 -> 601.65685 | X34: =U34*$X$20 -> 53.436078 | Y34: =X34*$E$14-V34 -> 525.9446 | Z34: =U34*$Z$20 -> 61.785466 | AA34: =Z34*$E$14 -> 617.85466
C35: =C34*1.33 -> 24.476715 | D35: =C35*$F$10 -> 123.36265 | E35: =C35*$E$10 -> 8818.9605 | F35: =C35*$F$20 -> 489.53431 | G35: =F35*$E$14-D35 -> 4771.9804 | H35: =C35*$H$20 -> 611.91788 | I35: =H35*$E$14 -> 6119.1788 | L35: =L34*1.11 -> 3.7071279 | M35: =L35*$O$10 -> 36.070355 | N35: =L35*$N$10 -> 2577.01 | O35: =L35*$O$20 -> 122.33522 | P35: =O35*$E$14-M35 -> 1187.2819 | Q35: =L35*$Q$20 -> 140.87086 | R35: =Q35*$E$14 -> 1408.7086 | U35: =L35/2 -> 1.853564 | V35: =U35*$F$10 -> 9.3419624 | W35: =U35*$W$10 -> 667.8391 | X35: =U35*$X$20 -> 59.314047 | Y35: =X35*$E$14-V35 -> 583.79851 | Z35: =U35*$Z$20 -> 68.581867 | AA35: =Z35*$E$14 -> 685.81867
C36: =C35*1.33 -> 32.554031 | D36: =C36*$F$10 -> 164.07232 | E36: =C36*$E$10 -> 11729.217 | F36: =C36*$F$20 -> 651.08063 | G36: =F36*$E$14-D36 -> 6346.734 | H36: =C36*$H$20 -> 813.85078 | I36: =H36*$E$14 -> 8138.5078 | L36: 4.2 | M36: =L36*$O$10 -> 40.866 | N36: =L36*$N$10 -> 2919.63 | O36: =L36*$O$20 -> 138.6 | P36: =O36*$E$14-M36 -> 1345.134 | Q36: =L36*$Q$20 -> 159.6 | R36: =Q36*$E$14 -> 1596 | U36: =L36/2 -> 2.1 | V36: =U36*$F$10 -> 10.584 | W36: =U36*$W$10 -> 756.63 | X36: =U36*$X$20 -> 67.2 | Y36: =X36*$E$14-V36 -> 661.416 | Z36: =U36*$Z$20 -> 77.7 | AA36: =Z36*$E$14 -> 777
C37: =C36*1.33 -> 43.296862 | D37: =C37*$F$10 -> 218.21618 | E37: =C37*$E$10 -> 15599.859 | F37: =C37*$F$20 -> 865.93723 | G37: =F37*$E$14-D37 -> 8441.1562 | H37: =C37*$H$20 -> 1082.4215 | I37: =H37*$E$14 -> 10824.215 | L37: 5.6 | M37: =L37*$O$10 -> 54.488 | N37: =L37*$N$10 -> 3892.84 | O37: =L37*$O$20 -> 184.8 | P37: =O37*$E$14-M37 -> 1793.512 | Q37: =L37*$Q$20 -> 212.8 | R37: =Q37*$E$14 -> 2128 | U37: =L37/2 -> 2.8 | V37: =U37*$F$10 -> 14.112 | W37: =U37*$W$10 -> 1008.84 | X37: =U37*$X$20 -> 89.6 | Y37: =X37*$E$14-V37 -> 881.888 | Z37: =U37*$Z$20 -> 103.6 | AA37: =Z37*$E$14 -> 1036
C38: =C37*1.33 -> 57.584826 | D38: =C38*$F$10 -> 290.22752 | E38: =C38*$E$10 -> 20747.813 | F38: =C38*$F$20 -> 1151.6965 | G38: =F38*$E$14-D38 -> 11226.738 | H38: =C38*$H$20 -> 1439.6207 | I38: =H38*$E$14 -> 14396.207 | L38: 6.7 | M38: =L38*$O$10 -> 65.191 | N38: =L38*$N$10 -> 4657.505 | O38: =L38*$O$20 -> 221.1 | P38: =O38*$E$14-M38 -> 2145.809 | Q38: =L38*$Q$20 -> 254.6 | R38: =Q38*$E$14 -> 2546 | U38: =L38/2 -> 3.35 | V38: =U38*$F$10 -> 16.884 | W38: =U38*$W$10 -> 1207.005 | X38: =U38*$X$20 -> 107.2 | Y38: =X38*$E$14-V38 -> 1055.116 | Z38: =U38*$Z$20 -> 123.95 | AA38: =Z38*$E$14 -> 1239.5
C39: =C38*1.33 -> 76.587819 | D39: =C39*$F$10 -> 386.00261 | E39: =C39*$E$10 -> 27594.591 | F39: =C39*$F$20 -> 1531.7564 | G39: =F39*$E$14-D39 -> 14931.561 | H39: =C39*$H$20 -> 1914.6955 | I39: =H39*$E$14 -> 19146.955 | L39: 8.2 | M39: =L39*$O$10 -> 79.786 | N39: =L39*$N$10 -> 5700.23 | O39: =L39*$O$20 -> 270.6 | P39: =O39*$E$14-M39 -> 2626.214 | Q39: =L39*$Q$20 -> 311.6 | R39: =Q39*$E$14 -> 3116 | U39: =L39/2 -> 4.1 | V39: =U39*$F$10 -> 20.664 | W39: =U39*$W$10 -> 1477.23 | X39: =U39*$X$20 -> 131.2 | Y39: =X39*$E$14-V39 -> 1291.336 | Z39: =U39*$Z$20 -> 151.7 | AA39: =Z39*$E$14 -> 1517
C40: =C39*1.33 -> 101.8618 | D40: =C40*$F$10 -> 513.38347 | E40: =C40*$E$10 -> 36700.806 | F40: =C40*$F$20 -> 2037.236 | G40: =F40*$E$14-D40 -> 19858.976 | H40: =C40*$H$20 -> 2546.545 | I40: =H40*$E$14 -> 25465.45 | L40: 9.6 | M40: =L40*$O$10 -> 93.408 | N40: =L40*$N$10 -> 6673.44 | O40: =L40*$O$20 -> 316.8 | P40: =O40*$E$14-M40 -> 3074.592 | Q40: =L40*$Q$20 -> 364.8 | R40: =Q40*$E$14 -> 3648 | U40: =L40/2 -> 4.8 | V40: =U40*$F$10 -> 24.192 | W40: =U40*$W$10 -> 1729.44 | X40: =U40*$X$20 -> 153.6 | Y40: =X40*$E$14-V40 -> 1511.808 | Z40: =U40*$Z$20 -> 177.6 | AA40: =Z40*$E$14 -> 1776
C41: =C40*1.33 -> 135.47619 | D41: =C41*$F$10 -> 682.80001 | E41: =C41*$E$10 -> 48812.072 | F41: =C41*$F$20 -> 2709.5238 | G41: =F41*$E$14-D41 -> 26412.438 | H41: =C41*$H$20 -> 3386.9048 | I41: =H41*$E$14 -> 33869.048 | L41: 10.5 | M41: =L41*$O$10 -> 102.165 | N41: =L41*$N$10 -> 7299.075 | O41: =L41*$O$20 -> 346.5 | P41: =O41*$E$14-M41 -> 3362.835 | Q41: =L41*$Q$20 -> 399 | R41: =Q41*$E$14 -> 3990 | U41: =L41/2 -> 5.25 | V41: =U41*$F$10 -> 26.46 | W41: =U41*$W$10 -> 1891.575 | X41: =U41*$X$20 -> 168 | Y41: =X41*$E$14-V41 -> 1653.54 | Z41: =U41*$Z$20 -> 194.25 | AA41: =Z41*$E$14 -> 1942.5
C43: Trades Open | D43: Total Commission | E43: Total Margin Used | F43: Winning Pips | H43: Profit USD Pairs | J43: Profit non USD Pairs | L43: Trades Open | M43: Total Commission | N43: Total Margin Used | O43: Winning Pips | Q43: Profit USD Pairs | S43: Profit non USD Pairs | U43: Trades Open | V43: Total Commission | W43: Total Margin Used | X43: Winning Pips | Z43: Profit USD Pairs | AB43: Profit non USD Pairs
C45: 1 | D45: =D22 -> 5.04 | E45: =E22 -> 360.3 | F45: =F22 -> 20 | G45: =F22*$F$15-D22 -> #DIV/0! | H45: =G22 -> 194.96 | I45: =H22*F15 -> #DIV/0! | J45: =G45 -> #DIV/0! | L45: 1 | M45: =M22 -> 4.3785 | N45: =N22 -> 312.8175 | O45: =O22 -> 14.85 | P45: =O22*$O$15-M22 -> 260.71182 | Q45: =O45*N$14-M45 -> 144.1215 | R45: =Q22*O15 -> 305.25552 | S45: =P45 -> 260.71182 | U45: 1 | V45: =V22 -> 1.134 | W45: =W22 -> 81.0675 | X45: =X22 -> 7.2 | Y45: =X22*$X$15-V22 -> 89.7228 | Z45: =X45*W$14-V45 -> 70.866 | AA45: =Z22*X15 -> 105.05318 | AB45: =Y45 -> 89.7228
C46: 2 | D46: =D22+D23 -> 12.096 | E46: =E22+E23 -> 864.72 | F46: =F23-H22 -> 3 | G46: =F23*$F$15-D23 -> #DIV/0! | H46: =G23-I22 -> 22.944 | I46: =H23*$F$15 -> #DIV/0! | J46: =G46-I45 -> #DIV/0! | L46: 2 | M46: =M22+M23 -> 10.84895 | N46: =N22+N23 -> 775.09225 | O46: =O23-Q22 -> 4.845 | P46: =O23*$O$15-M23 -> 385.27413 | Q46: =P23-R22 -> 41.97955 | R46: =Q23*$O$15 -> 451.09982 | S46: =P46-R45 -> 80.018614 | U46: 2 | V46: =V22+V23 -> 2.8098 | W46: =W22+W23 -> 200.86725 | X46: =X23-Z22 -> 2.315 | Y46: =X23*$X$15-V23 -> 132.59036 | Z46: =Y23-AA22 -> 21.4742 | AA46: =Z23*$X$15 -> 155.24525 | AB46: =Y46-AA45 -> 27.537185
C47: 3 | D47: =D22+D23+D24 -> 17.136 | E47: =E22+E23+E24 -> 1225.02 | F47: =F22+F24-H23 -> 5 | G47: =F24*$F$15-D24 -> #DIV/0! | H47: =G22+G24-I23 -> 39.92 | I47: =H24*$F$15 -> #DIV/0! | J47: =G45+G47-I46 -> #DIV/0! | L47: 3 | M47: =M22+M23+M24 -> 15.22745 | N47: =N22+N23+N24 -> 1087.9097 | O47: =O22+O24-Q23 -> 4.43 | P47: =O24*$O$15-M24 -> 260.71182 | Q47: =P22+P24-R23 -> 35.543 | R47: =Q24*$O$15 -> 305.25552 | S47: =P45+P47-R46 -> 70.323816 | U47: 3 | V47: =V22+V23+V24 -> 3.9438 | W47: =W22+W23+W24 -> 281.93475 | X47: =X22+X24-Z23 -> 2.0975 | Y47: =X24*$X$15-V24 -> 89.7228 | Z47: =Y22+Y24-AA23 -> 18.707 | AA47: =Z24*$X$15 -> 105.05318 | AB47: =Y45+Y47-AA46 -> 24.200353
C48: 4 | D48: =D22+D23+D24+D25 -> 24.192 | E48: =E22+E23+E24+E25 -> 1729.44 | F48: =F23+F25-H24-H22 -> 6 | G48: =F25*$F$15-D25 -> #DIV/0! | H48: =G23+G25-I24-I22 -> 45.888 | I48: =H25*$F$15 -> #DIV/0! | J48: =G46+G48-I47-I45 -> #DIV/0! | L48: 4 | M48: =M22+M23+M24+M25 -> 21.6979 | N48: =N22+N23+N24+N25 -> 1550.1845 | O48: =O23+O25-Q24-Q22 -> 9.69 | P48: =O25*$O$15-M25 -> 385.27413 | Q48: =P23+P25-R24-R22 -> 83.9591 | R48: =Q25*$O$15 -> 451.09982 | S48: =P46+P48-R47-R45 -> 160.03723 | U48: 4 | V48: =V22+V23+V24+V25 -> 5.6196 | W48: =W22+W23+W24+W25 -> 401.7345 | X48: =X23+X25-Z24-Z22 -> 4.63 | Y48: =X25*$X$15-V25 -> 132.59036 | Z48: =Y23+Y25-AA24-AA22 -> 42.9484 | AA48: =Z25*$X$15 -> 155.24525 | AB48: =Y46+Y48-AA47-AA45 -> 55.07437
C49: 5 | D49: =D22+D23+D24+D25+D26 -> 33.768 | E49: =E22+E23+E24+E25+E26 -> 2414.01 | F49: =F22+F24+F26-H25-H23 -> 8 | G49: =F26*$F$15-D26 -> #DIV/0! | H49: =(G22+G24+G26)-(I25+I23) -> 60.344 | I49: =H26*$F$15 -> #DIV/0! | J49: =G45+G47+G49-I48-I46 -> #DIV/0! | L49: 5 | M49: =M22+M23+M24+M25+M26 -> 30.9414 | N49: =N22+N23+N24+N25+N26 -> 2210.577 | O49: =O22+O24+O26-Q25-Q23 -> 10.51 | P49: =O26*$O$15-M26 -> 550.39162 | Q49: =(P22+P24+P26)-(R25+R23) -> 87.0995 | R49: =Q26*$O$15 -> 644.42832 | S49: =P45+P47+P49-R48-R46 -> 169.61561 | U49: 5 | V49: =V22+V23+V24+V25+V26 -> 8.0136 | W49: =W22+W23+W24+W25+W26 -> 572.877 | X49: =X22+X24+X26-Z25-Z23 -> 4.995 | Y49: =X26*$X$15-V26 -> 189.4148 | Z49: =(Y22+Y24+Y26)-(AA25+AA23) -> 45.288 | AA49: =Z26*$X$15 -> 221.77892 | AB49: =Y45+Y47+Y49-AA48-AA46 -> 58.369905
C50: 6 | D50: =D22+D23+D24+D25+D26+D27 -> 46.368 | E50: =E22+E23+E24+E25+E26+E27 -> 3314.76 | F50: =F23+F25+F27-H26-H24-H22 -> 8.5 | G50: =F27*$F$15-D27 -> #DIV/0! | H50: =G23+G25+G27-I26-I24-I22 -> 58.288 | I50: =H27*$F$15 -> #DIV/0! | J50: =G46+G48+G50-I49-I47-I45 -> #DIV/0! | L50: 6 | M50: =M22+M23+M24+M25+M26+M27 -> 42.1309 | N50: =N22+N23+N24+N25+N26+N27 -> 3009.9995 | O50: =O23+O25+O27-Q26-Q24-Q22 -> 11.54 | P50: =O27*$O$15-M27 -> 666.26354 | Q50: =P23+P25+P27-R26-R24-R22 -> 91.2696 | R50: =Q27*$O$15 -> 780.09744 | S50: =P46+P48+P50-R49-R47-R45 -> 181.87245 | U50: 6 | V50: =V22+V23+V24+V25+V26+V27 -> 10.9116 | W50: =W22+W23+W24+W25+W26+W27 -> 780.0495 | X50: =X23+X25+X27-Z26-Z24-Z22 -> 5.455 | Y50: =X27*$X$15-V27 -> 229.2916 | Z50: =Y23+Y25+Y27-AA26-AA24-AA22 -> 48.3004 | AA50: =Z27*$X$15 -> 268.46922 | AB50: =Y46+Y48+Y50-AA49-AA47-AA45 -> 62.587045
C51: 7 | D51: =D22+D23+D24+D25+D26+D27+D28 -> 63.126 | E51: =E22+E23+E24+E25+E26+E27+E28 -> 4512.7575 | F51: =F22+F24+F26+F28-H27-H25-H23 -> 12 | G51: =F28*$F$15-D28 -> #DIV/0! | H51: =G22+G24+G26+G28-I27-I25-I23 -> 83.586 | I51: =H28*$F$15 -> #DIV/0! | J51: =G45+G47+G49+G51-I50-I48-I46 -> #DIV/0! | L51: 7 | M51: =M22+M23+M24+M25+M26+M27+M28 -> 55.2664 | N51: =N22+N23+N24+N25+N26+N27+N28 -> 3948.452 | O51: =O22+O24+O26+O28-Q27-Q25-Q23 -> 11.36 | P51: =O28*$O$15-M28 -> 782.13546 | Q51: =P22+P24+P26+P28-R27-R25-R23 -> 82.464 | R51: =Q28*$O$15 -> 915.76656 | S51: =P45+P47+P49+P51-R50-R48-R46 -> 171.65363 | U51: 7 | V51: =V22+V23+V24+V25+V26+V27+V28 -> 14.3136 | W51: =W22+W23+W24+W25+W26+W27+W28 -> 1023.252 | X51: =X22+X24+X26+X28-Z27-Z25-Z23 -> 5.32 | Y51: =X28*$X$15-V28 -> 269.1684 | Z51: =Y22+Y24+Y26+Y28-AA27-AA25-AA23 -> 45.136 | AA51: =Z28*$X$15 -> 315.15953 | AB51: =Y45+Y47+Y49+Y51-AA50-AA48-AA46 -> 59.06908
C52: 8 | D52: =D22+D23+D24+D25+D26+D27+D28+D29 -> 85.41414 | E52: =E22+E23+E24+E25+E26+E27+E28+E29 -> 6106.0942 | F52: =F23+F25+F27+F29-H28-H26-H24-H22 -> 13.82 | G52: =F29*$F$15-D29 -> #DIV/0! | H52: =G23+G25+G27+G29-I22-I24-I26-I28 -> 89.19986 | I52: =H29*$F$15 -> #DIV/0! | J52: =G46+G48+G50+G52-I51-I49-I47-I45 -> #DIV/0! | L52: 8 | M52: =M22+M23+M24+M25+M26+M27+M28+M29 -> 71.3209 | N52: =N22+N23+N24+N25+N26+N27+N28+N29 -> 5095.4495 | O52: =O23+O25+O27+O29-Q28-Q26-Q24-Q22 -> 14.69 | P52: =O29*$O$15-M29 -> 955.94334 | Q52: =P23+P25+P27+P29-R22-R24-R26-R28 -> 106.7151 | R52: =Q29*$O$15 -> 1119.2702 | S52: =P46+P48+P50+P52-R51-R49-R47-R45 -> 222.04923 | U52: 8 | V52: =V22+V23+V24+V25+V26+V27+V28+V29 -> 18.4716 | W52: =W22+W23+W24+W25+W26+W27+W28+W29 -> 1320.4995 | X52: =X23+X25+X27+X29-Z28-Z26-Z24-Z22 -> 6.88 | Y52: =X29*$X$15-V29 -> 328.9836 | Z52: =Y23+Y25+Y27+Y29-AA22-AA24-AA26-AA28 -> 58.3924 | AA52: =Z29*$X$15 -> 385.19497 | AB52: =Y46+Y48+Y50+Y52-AA51-AA49-AA47-AA45 -> 76.41112
C53: 9 | D53: =D22+D23+D24+D25+D26+D27+D28+D29+D30 -> 115.05737 | E53: =E22+E23+E24+E25+E26+E27+E28+E29+E30 -> 8225.232 | F53: =F22+F24+F26+F28+F30-H29-H27-H25-H23 -> 19.0756 | G53: =F30*$F$15-D30 -> #DIV/0! | H53: =G22+G24+G26+G28+G30-I29-I27-I25-I23 -> 124.69877 | I53: =H30*$F$15 -> #DIV/0! | J53: =G45+G47+G49+G51+G53-I52-I50-I48-I46 -> #DIV/0! | L53: 9 | M53: =M22+M23+M24+M25+M26+M27+M28+M29+M30 -> 92.7269 | N53: =N22+N23+N24+N25+N26+N27+N28+N29+N30 -> 6624.7795 | O53: =O22+O24+O26+O28+O30-Q29-Q27-Q25-Q23 -> 21.26 | P53: =O30*$O$15-M30 -> 1274.5911 | Q53: =P22+P24+P26+P28+P30-R29-R27-R25-R23 -> 160.058 | R53: =Q30*$O$15 -> 1492.3603 | S53: =P45+P47+P49+P51+P53-R52-R50-R48-R46 -> 326.97451 | U53: 9 | V53: =V22+V23+V24+V25+V26+V27+V28+V29+V30 -> 24.0156 | W53: =W22+W23+W24+W25+W26+W27+W28+W29+W30 -> 1716.8295 | X53: =X22+X24+X26+X28+X30-Z29-Z27-Z25-Z23 -> 9.995 | Y53: =X30*$X$15-V30 -> 438.6448 | Z53: =Y22+Y24+Y26+Y28+Y30-AA29-AA27-AA25-AA23 -> 86.342 | AA53: =Z30*$X$15 -> 513.5933 | AB53: =Y45+Y47+Y49+Y51+Y53-AA52-AA50-AA48-AA46 -> 112.51891
C54: 10 | D54: =D23+D24+D25+D26+D27+D28+D29+D30+D31+D22 -> 154.48286 | E54: =E22+E23+E24+E25+E26+E27+E28+E29+E30+E31 -> 11043.685 | F54: =F23+F25+F27+F29+F31-H30-H28-H26-H24-H22 -> 23.230548 | G54: =F31*$F$15-D31 -> #DIV/0! | H54: =G23+G25+G27+G29+G31-I30-I28-I26-I24-I22 -> 143.87985 | I54: =H31*$F$15 -> #DIV/0! | J54: =G46+G48+G50+G52+G54-I53-I51-I49-I47-I45 -> #DIV/0! | L54: 10 | M54: =M23+M24+M25+M26+M27+M28+M29+M30+M31+M22 -> 116.48756 | N54: =N22+N23+N24+N25+N26+N27+N28+N29+N30+N31 -> 8322.3358 | O54: =O23+O25+O27+O29+O31-Q30-Q28-Q26-Q24-Q22 -> 11.676 | P54: =O31*$O$15-M31 -> 1414.7961 | Q54: =P23+P25+P27+P29+P31-R30-R28-R26-R24-R22 -> 52.81444 | R54: =Q31*$O$15 -> 1656.52 | S54: =P46+P48+P50+P52+P54-R53-R51-R49-R47-R45 -> 144.48505 | U54: 10 | V54: =V23+V24+V25+V26+V27+V28+V29+V30+V31+V22 -> 30.16944 | W54: =W22+W23+W24+W25+W26+W27+W28+W29+W30+W31 -> 2156.7558 | X54: =X23+X25+X27+X29+X31-Z30-Z28-Z26-Z24-Z22 -> 5.252 | Y54: =X31*$X$15-V31 -> 486.89573 | Z54: =Y23+Y25+Y27+Y29+Y31-AA30-AA28-AA26-AA24-AA22 -> 35.95856 | AA54: =Z31*$X$15 -> 570.08856 | AB54: =Y46+Y48+Y50+Y52+Y54-AA53-AA51-AA49-AA47-AA45 -> 49.713548
...

Sheet 2
B3: Symbol | C3: Margin | D3: Commission
B5: NZDUSD | C5: 360.3 | D5: 5.04
B6: NZDCHF | C6: 360.3 | D6: 5.04
B7: NZDJPY | C7: 360.3 | D7: 5.04
B8: NZDCAD | C8: 360.3 | D8: 5.04
B9: AUDUSD | C9: 387.05 | D9: 5.42
B10: AUDCHF | C10: 387.05 | D10: 5.42
B11: AUDJPY | C11: 387.05 | D11: 5.42
B12: AUDCAD | C12: 387.05 | D12: 5.42
B13: AUDNZD | C13: 387.05 | D13: 5.42
B14: CADCHF | C14: 407.11 | D14: 5.7
B15: CADJPY | C15: 407.11 | D15: 5.7
B16: USDCHF | C16: 500 | D16: 7
... B40: GBPNZD | C40: 695.15 | D40: 9.73
