Workbook
Name kopratasa: KopraTasa!$A$1:$G$65

Sheet KopraTasa
A1: USD
A2: USDCAD | B2: 1 | C2: 1 | D2: 1 | E2: 1 | F2: -1 | G2: 1
A3: USDCHF | B3: 1 | C3: 1 | D3: 1 | E3: -1 | F3: -1 | G3: 1
A4: USDJPY | B4: 1 | C4: 1 | D4: 1 | E4: 1 | F4: 1 | G4: -1
A5: AUDUSD | B5: 1 | C5: 1 | D5: -1 | E5: 1 | F5: 1 | G5: -1
A6: EURUSD | B6: -1 | C6: -1 | D6: -1 | E6: 1 | F6: 1 | G6: 1
A7: GBPUSD | B7: -1 | C7: -1 | D7: -1 | E7: 1 | F7: 1 | G7: 1
A8: NZDUSD | B8: -1 | C8: 1 | D8: -1 | E8: 1 | F8: 1 | G8: -1
A9: EUR
A10: EURAUD | B10: -1 | C10: -1 | D10: 1 | E10: 1 | F10: 1 | G10: 1
A11: EURCAD | B11: 1 | C11: 1 | D11: -1 | E11: 1 | F11: 1 | G11: 1
A12: EURCHF | B12: 1 | C12: 1 | D12: 1 | E12: 1 | F12: 1 | G12: 1
A13: EURGBP | B13: 1 | C13: 1 | D13: 1 | E13: 1 | F13: 1 | G13: 1
A14: EURJPY | B14: -1 | C14: 1 | D14: -1 | E14: 1 | F14: 1 | G14: 1
A15: EURNZD | B15: -1 | C15: -1 | D15: 1 | E15: 1 | F15: 1 | G15: 1
A16: EURUSD | B16: -1 | C16: -1 | D16: -1 | E16: 1 | F16: 1 | G16: 1
A17: GBP
A18: GBPAUD | B18: -1 | C18: -1 | D18: -1 | E18: 1 | F18: 1 | G18: 1
A19: GBPCAD | B19: -1 | C19: -1 | D19: -1 | E19: 1 | F19: -1 | G19: 1
A20: GBPCHF | B20: -1 | C20: -1 | D20: -1 | E20: 1 | F20: 1 | G20: 1
A21: GBPJPY | B21: -1 | C21: -1 | D21: -1 | E21: 1 | F21: 1 | G21: 1
A22: GBPNZD | B22: -1 | C22: -1 | D22: -1 | E22: 1 | F22: 1 | G22: 1
A23: GBPUSD | B23: -1 | C23: -1 | D23: -1 | E23: 1 | F23: 1 | G23: 1
A24: EURGBP | B24: 1 | C24: 1 | D24: 1 | E24: 1 | F24: 1 | G24: 1
A25: JPY
A26: AUDJPY | B26: 1 | C26: 1 | D26: -1 | E26: 1 | F26: 1 | G26: -1
A27: CADJPY | B27: -1 | C27: 1 | D27: -1 | E27: 1 | F27: 1 | G27: -1
A28: CHFJPY | B28: -1 | C28: 1 | D28: -1 | E28: 1 | F28: 1 | G28: -1
A29: EURJPY | B29: -1 | C29: 1 | D29: -1 | E29: 1 | F29: 1 | G29: 1
A30: GBPJPY | B30: -1 | C30: -1 | D30: -1 | E30: 1 | F30: 1 | G30: 1
A31: NZDJPY | B31: 0 | C31: 1 | D31: -1 | E31: 1 | F31: 1 | G31: -1
A32: USDJPY | B32: 1 | C32: 1 | D32: 1 | E32: 1 | F32: 1 | G32: -1
A33: CHF
A34: AUDCHF | B34: 1 | C34: 1 | D34: 1 | E34: -1 | F34: 1 | G34: 1
A35: CADCHF | B35: -1 | C35: -1 | D35: 1 | E35: -1 | F35: 1 | G35: 1
A36: EURCHF | B36: 1 | C36: 1 | D36: 1 | E36: 1 | F36: 1 | G36: 1
A37: GBPCHF | B37: -1 | C37: -1 | D37: -1 | E37: 1 | F37: 1 | G37: 1
A38: CHFJPY | B38: -1 | C38: 1 | D38: -1 | E38: 1 | F38: 1 | G38: -1
A39: NZDCHF | B39: 0 | C39: 1 | D39: 1 | E39: -1 | F39: -1 | G39: 1
A40: USDCHF | B40: 1 | C40: 1 | D40: 1 | E40: -1 | F40: -1 | G40: 1
A41: AUD
A42: AUDCAD | B42: 1 | C42: 1 | D42: -1 | E42: 1 | F42: -1 | G42: 1
A43: AUDCHF | B43: 1 | C43: 1 | D43: 1 | E43: -1 | F43: 1 | G43: 1
A44: AUDJPY | B44: 1 | C44: 1 | D44: -1 | E44: 1 | F44: 1 | G44: -1
A45: AUDNZD | B45: 1 | C45: 1 | D45: 1 | E45: -1 | F45: 1 | G45: 1
A46: AUDUSD | B46: 1 | C46: 1 | D46: -1 | E46: 1 | F46: 1 | G46: -1
A47: EURAUD | B47: -1 | C47: -1 | D47: 1 | E47: 1 | F47: 1 | G47: 1
A48: GBPAUD | B48: -1 | C48: -1 | D48: -1 | E48: 1 | F48: 1 | G48: 1
A49: CAD
A50: CADCHF | B50: -1 | C50: -1 | D50: 1 | E50: -1 | F50: 1 | G50: 1
A51: CADJPY | B51: -1 | C51: 1 | D51: -1 | E51: 1 | F51: 1 | G51: -1
A52: AUDCAD | B52: 1 | C52: 1 | D52: -1 | E52: 1 | F52: -1 | G52: 1
A53: EURCAD | B53: 1 | C53: 1 | D53: -1 | E53: 1 | F53: 1 | G53: 1
A54: GBPCAD | B54: -1 | C54: -1 | D54: -1 | E54: 1 | F54: -1 | G54: 1
A55: NZDCAD | B55: 1 | C55: 1 | D55: -1 | E55: 1 | F55: -1 | G55: -1
A56: USDCAD | B56: 1 | C56: 1 | D56: 1 | E56: 1 | F56: -1 | G56: 1
A57: NZD
A58: NZDCAD | B58: 1 | C58: 1 | D58: -1 | E58: 1 | F58: -1 | G58: -1
A59: NZDCHF | B59: 0 | C59: 1 | D59: 1 | E59: -1 | F59: -1 | G59: 1
A60: NZDJPY | B60: 0 | C60: 1 | D60: -1 | E60: 1 | F60: 1 | G60: -1
A61: NZDUSD | B61: -1 | C61: 1 | D61: -1 | E61: 1 | F61: 1 | G61: -1
A62: AUDNZD | B62: 1 | C62: 1 | D62: 1 | E62: -1 | F62: 1 | G62: 1
A63: EURNZD | B63: -1 | C63: -1 | D63: 1 | E63: 1 | F63: 1 | G63: 1
A64: GBPNZD | B64: -1 | C64: -1 | D64: -1 | E64: 1 | F64: 1 | G64: 1
A65: CORE5
A66: EURJPY | B66: 1 | C66: 1 | D66: -1 | E66: 1 | F66: -1 | G66: -1
A67: GBPJPY | B67: 0 | C67: 1 | D67: 1 | E67: -1 | F67: -1 | G67: 1
A68: NZDUSD | B68: 0 | C68: 1 | D68: -1 | E68: 1 | F68: 1 | G68: -1
A69: GBPUSD | B69: -1 | C69: 1 | D69: -1 | E69: 1 | F69: 1 | G69: -1
A70: AUDJPY | B70: 1 | C70: 1 | D70: 1 | E70: -1 | F70: 1 | G70: 1
A71: BASKET 1 STRONG BUY
A72: EURCHF | B72: 1 | C72: 1 | D72: 1 | E72: 1 | F72: 1 | G72: 1
A73: EURCHF | B73: 1 | C73: 1 | D73: 1 | E73: 1 | F73: 1 | G73: 1
A74: EURGBP | B74: 1 | C74: 1 | D74: 1 | E74: 1 | F74: 1 | G74: 1
A75: EURGBP | B75: 1 | C75: 1 | D75: 1 | E75: 1 | F75: 1 | G75: 1
A79: BASKET 2 MEDIUM BUY
A87: BASKET 1 STRONG SELL
A95: BASKET 2 MEDIUM SELL

Sheet MTA
C2: MAIN TREND ANALYSIS
C4: BASKET | D4: TREND DIRECTION & STRENGTH | N4: BASKET | O4: TREND DIRECTION & STRENGTH | Y4: BASKET | Z4: TREND DIRECTION & STRENGTH | AJ4: BASKET | AK4: TREND DIRECTION & STRENGTH
C5: USD | D5: TIME FRAME | J5: TREND STRENGTH | N5: EUR | O5: TIME FRAME | U5: TREND STRENGTH | Y5: GBP | Z5: TIME FRAME | AF5: TREND STRENGTH | AJ5: JPY | AK5: TIME FRAME | AQ5: TREND STRENGTH
D6: LOW TF | G6: HIGH TF | O6: LOW TF | R6: HIGH TF | Z6: LOW TF | AC6: HIGH TF | AK6: LOW TF | AN6: HIGH TF
D7: M5 | E7: M15 | F7: H1 | G7: H4 | H7: D1 | I7: W1 | J7: L-TS | K7: HTS | L7: TS | O7: M5 | P7: M15 | Q7: H1 | R7: H4 | S7: D1 | T7: W1 | U7: L-TS | V7: HTS | W7: TS | Z7: M5 | AA7: M15 | AB7: H1 | AC7: H4 | AD7: D1 | AE7: W1 | AF7: L-TS | AG7: HTS | AH7: TS | AK7: M5 | AL7: M15 | AM7: H1 | AN7: H4 | AO7: D1 | AP7: W1 | AQ7: L-TS | AR7: HTS | AS7: TS
C8: USDCAD | D8: =KopraTasa!B2 -> 1 | E8: =KopraTasa!C2 -> 1 | F8: =KopraTasa!D2 -> 1 | G8: =KopraTasa!E2 -> 1 | H8: =KopraTasa!F2 -> -1 | I8: =KopraTasa!G2 -> 1 | J8: =SUM(D8:F8) -> 3 | K8: =SUM(G8:I8) -> 1 | L8: =SUM(J8:K8)/2 -> 2 | N8: EURAUD | O8: =KopraTasa!B10 -> -1 | P8: =KopraTasa!C10 -> -1 | Q8: =KopraTasa!D10 -> 1 | R8: =KopraTasa!E10 -> 1 | S8: =KopraTasa!F10 -> 1 | T8: =KopraTasa!G10 -> 1 | U8: =SUM(O8:Q8) -> -1 | V8: =SUM(R8:T8) -> 3 | W8: =SUM(U8:V8)/2 -> 1 | Y8: GBPAUD | Z8: =KopraTasa!B18 -> -1 | AA8: =KopraTasa!C18 -> -1 | AB8: =KopraTasa!D18 -> -1 | AC8: =KopraTasa!E18 -> 1 | AD8: =KopraTasa!F18 -> 1 | AE8: =KopraTasa!G18 -> 1 | AF8: =SUM(Z8:AB8) -> -3 | AG8: =SUM(AC8:AE8) -> 3 | AH8: =SUM(AF8:AG8)/2 -> 0 | AJ8: AUDJPY | AK8: =KopraTasa!B26 -> 1 | AL8: =KopraTasa!C26 -> 1 | AM8: =KopraTasa!D26 -> -1 | AN8: =KopraTasa!E26 -> 1 | AO8: =KopraTasa!F26 -> 1 | AP8: =KopraTasa!G26 -> -1 | AQ8: =SUM(AK8:AM8) -> 1 | AR8: =SUM(AN8:AP8) -> 1 | AS8: =SUM(AQ8:AR8)/2 -> 1
C9: USDCHF | D9: =KopraTasa!B3 -> 1 | E9: =KopraTasa!C3 -> 1 | F9: =KopraTasa!D3 -> 1 | G9: =KopraTasa!E3 -> -1 | H9: =KopraTasa!F3 -> -1 | I9: =KopraTasa!G3 -> 1 | J9: =SUM(D9:F9) -> 3 | K9: =SUM(G9:I9) -> -1 | L9: =SUM(J9:K9)/2 -> 1 | N9: EURCAD | O9: =KopraTasa!B11 -> 1 | P9: =KopraTasa!C11 -> 1 | Q9: =KopraTasa!D11 -> -1 | R9: =KopraTasa!E11 -> 1 | S9: =KopraTasa!F11 -> 1 | T9: =KopraTasa!G11 -> 1 | U9: =SUM(O9:Q9) -> 1 | V9: =SUM(R9:T9) -> 3 | W9: =SUM(U9:V9)/2 -> 2 | Y9: GBPCAD | Z9: =KopraTasa!B19 -> -1 | AA9: =KopraTasa!C19 -> -1 | AB9: =KopraTasa!D19 -> -1 | AC9: =KopraTasa!E19 -> 1 | AD9: =KopraTasa!F19 -> -1 | AE9: =KopraTasa!G19 -> 1 | AF9: =SUM(Z9:AB9) -> -3 | AG9: =SUM(AC9:AE9) -> 1 | AH9: =SUM(AF9:AG9)/2 -> -1 | AJ9: CADJPY | AK9: =KopraTasa!B27 -> -1 | AL9: =KopraTasa!C27 -> 1 | AM9: =KopraTasa!D27 -> -1 | AN9: =KopraTasa!E27 -> 1 | AO9: =KopraTasa!F27 -> 1 | AP9: =KopraTasa!G27 -> -1 | AQ9: =SUM(AK9:AM9) -> -1 | AR9: =SUM(AN9:AP9) -> 1 | AS9: =SUM(AQ9:AR9)/2 -> 0
C10: USDJPY | D10: =KopraTasa!B4 -> 1 | E10: =KopraTasa!C4 -> 1 | F10: =KopraTasa!D4 -> 1 | G10: =KopraTasa!E4 -> 1 | H10: =KopraTasa!F4 -> 1 | I10: =KopraTasa!G4 -> -1 | J10: =SUM(D10:F10) -> 3 | K10: =SUM(G10:I10) -> 1 | L10: =SUM(J10:K10)/2 -> 2 | N10: EURCHF | O10: =KopraTasa!B12 -> 1 | P10: =KopraTasa!C12 -> 1 | Q10: =KopraTasa!D12 -> 1 | R10: =KopraTasa!E12 -> 1 | S10: =KopraTasa!F12 -> 1 | T10: =KopraTasa!G12 -> 1 | U10: =SUM(O10:Q10) -> 3 | V10: =SUM(R10:T10) -> 3 | W10: =SUM(U10:V10)/2 -> 3 | Y10: GBPCHF | Z10: =KopraTasa!B20 -> -1 | AA10: =KopraTasa!C20 -> -1 | AB10: =KopraTasa!D20 -> -1 | AC10: =KopraTasa!E20 -> 1 | AD10: =KopraTasa!F20 -> 1 | AE10: =KopraTasa!G20 -> 1 | AF10: =SUM(Z10:AB10) -> -3 | AG10: =SUM(AC10:AE10) -> 3 | AH10: =SUM(AF10:AG10)/2 -> 0 | AJ10: CHFJPY | AK10: =KopraTasa!B28 -> -1 | AL10: =KopraTasa!C28 -> 1 | AM10: =KopraTasa!D28 -> -1 | AN10: =KopraTasa!E28 -> 1 | AO10: =KopraTasa!F28 -> 1 | AP10: =KopraTasa!G28 -> -1 | AQ10: =SUM(AK10:AM10) -> -1 | AR10: =SUM(AN10:AP10) -> 1 | AS10: =SUM(AQ10:AR10)/2 -> 0
C11: AUDUSD | D11: =KopraTasa!B5 -> 1 | E11: =KopraTasa!C5 -> 1 | F11: =KopraTasa!D5 -> -1 | G11: =KopraTasa!E5 -> 1 | H11: =KopraTasa!F5 -> 1 | I11: =KopraTasa!G5 -> -1 | J11: =SUM(D11:F11) -> 1 | K11: =SUM(G11:I11) -> 1 | L11: =SUM(J11:K11)/2 -> 1 | N11: EURGBP | O11: =KopraTasa!B13 -> 1 | P11: =KopraTasa!C13 -> 1 | Q11: =KopraTasa!D13 -> 1 | R11: =KopraTasa!E13 -> 1 | S11: =KopraTasa!F13 -> 1 | T11: =KopraTasa!G13 -> 1 | U11: =SUM(O11:Q11) -> 3 | V11: =SUM(R11:T11) -> 3 | W11: =SUM(U11:V11)/2 -> 3 | Y11: GBPJPY | Z11: =KopraTasa!B21 -> -1 | AA11: =KopraTasa!C21 -> -1 | AB11: =KopraTasa!D21 -> -1 | AC11: =KopraTasa!E21 -> 1 | AD11: =KopraTasa!F21 -> 1 | AE11: =KopraTasa!G21 -> 1 | AF11: =SUM(Z11:AB11) -> -3 | AG11: =SUM(AC11:AE11) -> 3 | AH11: =SUM(AF11:AG11)/2 -> 0 | AJ11: EURJPY | AK11: =KopraTasa!B29 -> -1 | AL11: =KopraTasa!C29 -> 1 | AM11: =KopraTasa!D29 -> -1 | AN11: =KopraTasa!E29 -> 1 | AO11: =KopraTasa!F29 -> 1 | AP11: =KopraTasa!G29 -> 1 | AQ11: =SUM(AK11:AM11) -> -1 | AR11: =SUM(AN11:AP11) -> 3 | AS11: =SUM(AQ11:AR11)/2 -> 1
C12: EURUSD | D12: =KopraTasa!B6 -> -1 | E12: =KopraTasa!C6 -> -1 | F12: =KopraTasa!D6 -> -1 | G12: =KopraTasa!E6 -> 1 | H12: =KopraTasa!F6 -> 1 | I12: =KopraTasa!G6 -> 1 | J12: =SUM(D12:F12) -> -3 | K12: =SUM(G12:I12) -> 3 | L12: =SUM(J12:K12)/2 -> 0 | N12: EURJPY | O12: =KopraTasa!B14 -> -1 | P12: =KopraTasa!C14 -> 1 | Q12: =KopraTasa!D14 -> -1 | R12: =KopraTasa!E14 -> 1 | S12: =KopraTasa!F14 -> 1 | T12: =KopraTasa!G14 -> 1 | U12: =SUM(O12:Q12) -> -1 | V12: =SUM(R12:T12) -> 3 | W12: =SUM(U12:V12)/2 -> 1 | Y12: GBPNZD | Z12: =KopraTasa!B22 -> -1 | AA12: =KopraTasa!C22 -> -1 | AB12: =KopraTasa!D22 -> -1 | AC12: =KopraTasa!E22 -> 1 | AD12: =KopraTasa!F22 -> 1 | AE12: =KopraTasa!G22 -> 1 | AF12: =SUM(Z12:AB12) -> -3 | AG12: =SUM(AC12:AE12) -> 3 | AH12: =SUM(AF12:AG12)/2 -> 0 | AJ12: GBPJPY | AK12: =KopraTasa!B30 -> -1 | AL12: =KopraTasa!C30 -> -1 | AM12: =KopraTasa!D30 -> -1 | AN12: =KopraTasa!E30 -> 1 | AO12: =KopraTasa!F30 -> 1 | AP12: =KopraTasa!G30 -> 1 | AQ12: =SUM(AK12:AM12) -> -3 | AR12: =SUM(AN12:AP12) -> 3 | AS12: =SUM(AQ12:AR12)/2 -> 0
C13: GBPUSD | D13: =KopraTasa!B7 -> -1 | E13: =KopraTasa!C7 -> -1 | F13: =KopraTasa!D7 -> -1 | G13: =KopraTasa!E7 -> 1 | H13: =KopraTasa!F7 -> 1 | I13: =KopraTasa!G7 -> 1 | J13: =SUM(D13:F13) -> -3 | K13: =SUM(G13:I13) -> 3 | L13: =SUM(J13:K13)/2 -> 0 | N13: EURNZD | O13: =KopraTasa!B15 -> -1 | P13: =KopraTasa!C15 -> -1 | Q13: =KopraTasa!D15 -> 1 | R13: =KopraTasa!E15 -> 1 | S13: =KopraTasa!F15 -> 1 | T13: =KopraTasa!G15 -> 1 | U13: =SUM(O13:Q13) -> -1 | V13: =SUM(R13:T13) -> 3 | W13: =SUM(U13:V13)/2 -> 1 | Y13: GBPUSD | Z13: =KopraTasa!B23 -> -1 | AA13: =KopraTasa!C23 -> -1 | AB13: =KopraTasa!D23 -> -1 | AC13: =KopraTasa!E23 -> 1 | AD13: =KopraTasa!F23 -> 1 | AE13: =KopraTasa!G23 -> 1 | AF13: =SUM(Z13:AB13) -> -3 | AG13: =SUM(AC13:AE13) -> 3 | AH13: =SUM(AF13:AG13)/2 -> 0 | AJ13: NZDJPY | AK13: =KopraTasa!B31 -> 0 | AL13: =KopraTasa!C31 -> 1 | AM13: =KopraTasa!D31 -> -1 | AN13: =KopraTasa!E31 -> 1 | AO13: =KopraTasa!F31 -> 1 | AP13: =KopraTasa!G31 -> -1 | AQ13: =SUM(AK13:AM13) -> 0 | AR13: =SUM(AN13:AP13) -> 1 | AS13: =SUM(AQ13:AR13)/2 -> 0.5
C14: NZDUSD | D14: =KopraTasa!B8 -> -1 | E14: =KopraTasa!C8 -> 1 | F14: =KopraTasa!D8 -> -1 | G14: =KopraTasa!E8 -> 1 | H14: =KopraTasa!F8 -> 1 | I14: =KopraTasa!G8 -> -1 | J14: =SUM(D14:F14) -> -1 | K14: =SUM(G14:I14) -> 1 | L14: =SUM(J14:K14)/2 -> 0 | N14: EURUSD | O14: =KopraTasa!B16 -> -1 | P14: =KopraTasa!C16 -> -1 | Q14: =KopraTasa!D16 -> -1 | R14: =KopraTasa!E16 -> 1 | S14: =KopraTasa!F16 -> 1 | T14: =KopraTasa!G16 -> 1 | U14: =SUM(O14:Q14) -> -3 | V14: =SUM(R14:T14) -> 3 | W14: =SUM(U14:V14)/2 -> 0 | Y14: EURGBP | Z14: =KopraTasa!B24 -> 1 | AA14: =KopraTasa!C24 -> 1 | AB14: =KopraTasa!D24 -> 1 | AC14: =KopraTasa!E24 -> 1 | AD14: =KopraTasa!F24 -> 1 | AE14: =KopraTasa!G24 -> 1 | AF14: =SUM(Z14:AB14) -> 3 | AG14: =SUM(AC14:AE14) -> 3 | AH14: =SUM(AF14:AG14)/2 -> 3 | AJ14: USDJPY | AK14: =KopraTasa!B32 -> 1 | AL14: =KopraTasa!C32 -> 1 | AM14: =KopraTasa!D32 -> 1 | AN14: =KopraTasa!E32 -> 1 | AO14: =KopraTasa!F32 -> 1 | AP14: =KopraTasa!G32 -> -1 | AQ14: =SUM(AK14:AM14) -> 3 | AR14: =SUM(AN14:AP14) -> 1 | AS14: =SUM(AQ14:AR14)/2 -> 2
C17: BASKET | D17: TREND DIRECTION & STRENGTH | N17: BASKET | O17: TREND DIRECTION & STRENGTH | Y17: BASKET | Z17: TREND DIRECTION & STRENGTH | AJ17: BASKET | AK17: TREND DIRECTION & STRENGTH
C18: CHF | D18: TIME FRAME | J18: TREND STRENGTH | N18: AUD | O18: TIME FRAME | U18: TREND STRENGTH | Y18: CAD | Z18: TIME FRAME | AF18: TREND STRENGTH | AJ18: NZD | AK18: TIME FRAME | AQ18: TREND STRENGTH
D19: LOW TF | G19: HIGH TF | O19: LOW TF | R19: HIGH TF | Z19: LOW TF | AC19: HIGH TF | AK19: LOW TF | AN19: HIGH TF
D20: M5 | E20: M15 | F20: H1 | G20: H4 | H20: D1 | I20: W1 | J20: L-TS | K20: HTS | L20: TS | O20: M5 | P20: M15 | Q20: H1 | R20: H4 | S20: D1 | T20: W1 | U20: L-TS | V20: HTS | W20: TS | Z20: M5 | AA20: M15 | AB20: H1 | AC20: H4 | AD20: D1 | AE20: W1 | AF20: L-TS | AG20: HTS | AH20: TS | AK20: M5 | AL20: M15 | AM20: H1 | AN20: H4 | AO20: D1 | AP20: W1 | AQ20: L-TS | AR20: HTS | AS20: TS
C21: AUDCHF | D21: =KopraTasa!B34 -> 1 | E21: =KopraTasa!C34 -> 1 | F21: =KopraTasa!D34 -> 1 | G21: =KopraTasa!E34 -> -1 | H21: =KopraTasa!F34 -> 1 | I21: =KopraTasa!G34 -> 1 | J21: =SUM(D21:F21) -> 3 | K21: =SUM(G21:I21) -> 1 | L21: =SUM(J21:K21)/2 -> 2 | N21: AUDCAD | O21: =KopraTasa!B42 -> 1 | P21: =KopraTasa!C42 -> 1 | Q21: =KopraTasa!D42 -> -1 | R21: =KopraTasa!E42 -> 1 | S21: =KopraTasa!F42 -> -1 | T21: =KopraTasa!G42 -> 1 | U21: =SUM(O21:Q21) -> 1 | V21: =SUM(R21:T21) -> 1 | W21: =SUM(U21:V21)/2 -> 1 | Y21: CADCHF | Z21: =KopraTasa!B50 -> -1 | AA21: =KopraTasa!C50 -> -1 | AB21: =KopraTasa!D50 -> 1 | AC21: =KopraTasa!E50 -> -1 | AD21: =KopraTasa!F50 -> 1 | AE21: =KopraTasa!G50 -> 1 | AF21: =SUM(Z21:AB21) -> -1 | AG21: =SUM(AC21:AE21) -> 1 | AH21: =SUM(AF21:AG21)/2 -> 0 | AJ21: NZDCAD | AK21: =KopraTasa!B58 -> 1 | AL21: =KopraTasa!C58 -> 1 | AM21: =KopraTasa!D58 -> -1 | AN21: =KopraTasa!E58 -> 1 | AO21: =KopraTasa!F58 -> -1 | AP21: =KopraTasa!G58 -> -1 | AQ21: =SUM(AK21:AM21) -> 1 | AR21: =SUM(AN21:AP21) -> -1 | AS21: =SUM(AQ21:AR21)/2 -> 0
C22: CADCHF | D22: =KopraTasa!B35 -> -1 | E22: =KopraTasa!C35 -> -1 | F22: =KopraTasa!D35 -> 1 | G22: =KopraTasa!E35 -> -1 | H22: =KopraTasa!F35 -> 1 | I22: =KopraTasa!G35 -> 1 | J22: =SUM(D22:F22) -> -1 | K22: =SUM(G22:I22) -> 1 | L22: =SUM(J22:K22)/2 -> 0 | N22: AUDCHF | O22: =KopraTasa!B43 -> 1 | P22: =KopraTasa!C43 -> 1 | Q22: =KopraTasa!D43 -> 1 | R22: =KopraTasa!E43 -> -1 | S22: =KopraTasa!F43 -> 1 | T22: =KopraTasa!G43 -> 1 | U22: =SUM(O22:Q22) -> 3 | V22: =SUM(R22:T22) -> 1 | W22: =SUM(U22:V22)/2 -> 2 | Y22: CADJPY | Z22: =KopraTasa!B51 -> -1 | AA22: =KopraTasa!C51 -> 1 | AB22: =KopraTasa!D51 -> -1 | AC22: =KopraTasa!E51 -> 1 | AD22: =KopraTasa!F51 -> 1 | AE22: =KopraTasa!G51 -> -1 | AF22: =SUM(Z22:AB22) -> -1 | AG22: =SUM(AC22:AE22) -> 1 | AH22: =SUM(AF22:AG22)/2 -> 0 | AJ22: NZDCHF | AK22: =KopraTasa!B59 -> 0 | AL22: =KopraTasa!C59 -> 1 | AM22: =KopraTasa!D59 -> 1 | AN22: =KopraTasa!E59 -> -1 | AO22: =KopraTasa!F59 -> -1 | AP22: =KopraTasa!G59 -> 1 | AQ22: =SUM(AK22:AM22) -> 2 | AR22: =SUM(AN22:AP22) -> -1 | AS22: =SUM(AQ22:AR22)/2 -> 0.5
C23: EURCHF | D23: =KopraTasa!B36 -> 1 | E23: =KopraTasa!C36 -> 1 | F23: =KopraTasa!D36 -> 1 | G23: =KopraTasa!E36 -> 1 | H23: =KopraTasa!F36 -> 1 | I23: =KopraTasa!G36 -> 1 | J23: =SUM(D23:F23) -> 3 | K23: =SUM(G23:I23) -> 3 | L23: =SUM(J23:K23)/2 -> 3 | N23: AUDJPY | O23: =KopraTasa!B44 -> 1 | P23: =KopraTasa!C44 -> 1 | Q23: =KopraTasa!D44 -> -1 | R23: =KopraTasa!E44 -> 1 | S23: =KopraTasa!F44 -> 1 | T23: =KopraTasa!G44 -> -1 | U23: =SUM(O23:Q23) -> 1 | V23: =SUM(R23:T23) -> 1 | W23: =SUM(U23:V23)/2 -> 1 | Y23: AUDCAD | Z23: =KopraTasa!B52 -> 1 | AA23: =KopraTasa!C52 -> 1 | AB23: =KopraTasa!D52 -> -1 | AC23: =KopraTasa!E52 -> 1 | AD23: =KopraTasa!F52 -> -1 | AE23: =KopraTasa!G52 -> 1 | AF23: =SUM(Z23:AB23) -> 1 | AG23: =SUM(AC23:AE23) -> 1 | AH23: =SUM(AF23:AG23)/2 -> 1 | AJ23: NZDJPY | AK23: =KopraTasa!B60 -> 0 | AL23: =KopraTasa!C60 -> 1 | AM23: =KopraTasa!D60 -> -1 | AN23: =KopraTasa!E60 -> 1 | AO23: =KopraTasa!F60 -> 1 | AP23: =KopraTasa!G60 -> -1 | AQ23: =SUM(AK23:AM23) -> 0 | AR23: =SUM(AN23:AP23) -> 1 | AS23: =SUM(AQ23:AR23)/2 -> 0.5
C24: GBPCHF | D24: =KopraTasa!B37 -> -1 | E24: =KopraTasa!C37 -> -1 | F24: =KopraTasa!D37 -> -1 | G24: =KopraTasa!E37 -> 1 | H24: =KopraTasa!F37 -> 1 | I24: =KopraTasa!G37 -> 1 | J24: =SUM(D24:F24) -> -3 | K24: =SUM(G24:I24) -> 3 | L24: =SUM(J24:K24)/2 -> 0 | N24: AUDNZD | O24: =KopraTasa!B45 -> 1 | P24: =KopraTasa!C45 -> 1 | Q24: =KopraTasa!D45 -> 1 | R24: =KopraTasa!E45 -> -1 | S24: =KopraTasa!F45 -> 1 | T24: =KopraTasa!G45 -> 1 | U24: =SUM(O24:Q24) -> 3 | V24: =SUM(R24:T24) -> 1 | W24: =SUM(U24:V24)/2 -> 2 | Y24: EURCAD | Z24: =KopraTasa!B53 -> 1 | AA24: =KopraTasa!C53 -> 1 | AB24: =KopraTasa!D53 -> -1 | AC24: =KopraTasa!E53 -> 1 | AD24: =KopraTasa!F53 -> 1 | AE24: =KopraTasa!G53 -> 1 | AF24: =SUM(Z24:AB24) -> 1 | AG24: =SUM(AC24:AE24) -> 3 | AH24: =SUM(AF24:AG24)/2 -> 2 | AJ24: NZDUSD | AK24: =KopraTasa!B61 -> -1 | AL24: =KopraTasa!C61 -> 1 | AM24: =KopraTasa!D61 -> -1 | AN24: =KopraTasa!E61 -> 1 | AO24: =KopraTasa!F61 -> 1 | AP24: =KopraTasa!G61 -> -1 | AQ24: =SUM(AK24:AM24) -> -1 | AR24: =SUM(AN24:AP24) -> 1 | AS24: =SUM(AQ24:AR24)/2 -> 0
C25: CHFJPY | D25: =KopraTasa!B38 -> -1 | E25: =KopraTasa!C38 -> 1 | F25: =KopraTasa!D38 -> -1 | G25: =KopraTasa!E38 -> 1 | H25: =KopraTasa!F38 -> 1 | I25: =KopraTasa!G38 -> -1 | J25: =SUM(D25:F25) -> -1 | K25: =SUM(G25:I25) -> 1 | L25: =SUM(J25:K25)/2 -> 0 | N25: AUDUSD | O25: =KopraTasa!B46 -> 1 | P25: =KopraTasa!C46 -> 1 | Q25: =KopraTasa!D46 -> -1 | R25: =KopraTasa!E46 -> 1 | S25: =KopraTasa!F46 -> 1 | T25: =KopraTasa!G46 -> -1 | U25: =SUM(O25:Q25) -> 1 | V25: =SUM(R25:T25) -> 1 | W25: =SUM(U25:V25)/2 -> 1 | Y25: GBPCAD | Z25: =KopraTasa!B54 -> -1 | AA25: =KopraTasa!C54 -> -1 | AB25: =KopraTasa!D54 -> -1 | AC25: =KopraTasa!E54 -> 1 | AD25: =KopraTasa!F54 -> -1 | AE25: =KopraTasa!G54 -> 1 | AF25: =SUM(Z25:AB25) -> -3 | AG25: =SUM(AC25:AE25) -> 1 | AH25: =SUM(AF25:AG25)/2 -> -1 | AJ25: AUDNZD | AK25: =KopraTasa!B62 -> 1 | AL25: =KopraTasa!C62 -> 1 | AM25: =KopraTasa!D62 -> 1 | AN25: =KopraTasa!E62 -> -1 | AO25: =KopraTasa!F62 -> 1 | AP25: =KopraTasa!G62 -> 1 | AQ25: =SUM(AK25:AM25) -> 3 | AR25: =SUM(AN25:AP25) -> 1 | AS25: =SUM(AQ25:AR25)/2 -> 2
C26: NZDCHF | D26: =KopraTasa!B39 -> 0 | E26: =KopraTasa!C39 -> 1 | F26: =KopraTasa!D39 -> 1 | G26: =KopraTasa!E39 -> -1 | H26: =KopraTasa!F39 -> -1 | I26: =KopraTasa!G39 -> 1 | J26: =SUM(D26:F26) -> 2 | K26: =SUM(G26:I26) -> -1 | L26: =SUM(J26:K26)/2 -> 0.5 | N26: EURAUD | O26: =KopraTasa!B47 -> -1 | P26: =KopraTasa!C47 -> -1 | Q26: =KopraTasa!D47 -> 1 | R26: =KopraTasa!E47 -> 1 | S26: =KopraTasa!F47 -> 1 | T26: =KopraTasa!G47 -> 1 | U26: =SUM(O26:Q26) -> -1 | V26: =SUM(R26:T26) -> 3 | W26: =SUM(U26:V26)/2 -> 1 | Y26: NZDCAD | Z26: =KopraTasa!B55 -> 1 | AA26: =KopraTasa!C55 -> 1 | AB26: =KopraTasa!D55 -> -1 | AC26: =KopraTasa!E55 -> 1 | AD26: =KopraTasa!F55 -> -1 | AE26: =KopraTasa!G55 -> -1 | AF26: =SUM(Z26:AB26) -> 1 | AG26: =SUM(AC26:AE26) -> -1 | AH26: =SUM(AF26:AG26)/2 -> 0 | AJ26: EURNZD | AK26: =KopraTasa!B63 -> -1 | AL26: =KopraTasa!C63 -> -1 | AM26: =KopraTasa!D63 -> 1 | AN26: =KopraTasa!E63 -> 1 | AO26: =KopraTasa!F63 -> 1 | AP26: =KopraTasa!G63 -> 1 | AQ26: =SUM(AK26:AM26) -> -1 | AR26: =SUM(AN26:AP26) -> 3 | AS26: =SUM(AQ26:AR26)/2 -> 1
C27: USDCHF | D27: =KopraTasa!B40 -> 1 | E27: =KopraTasa!C40 -> 1 | F27: =KopraTasa!D40 -> 1 | G27: =KopraTasa!E40 -> -1 | H27: =KopraTasa!F40 -> -1 | I27: =KopraTasa!G40 -> 1 | J27: =SUM(D27:F27) -> 3 | K27: =SUM(G27:I27) -> -1 | L27: =SUM(J27:K27)/2 -> 1 | N27: GBPAUD | O27: =KopraTasa!B48 -> -1 | P27: =KopraTasa!C48 -> -1 | Q27: =KopraTasa!D48 -> -1 | R27: =KopraTasa!E48 -> 1 | S27: =KopraTasa!F48 -> 1 | T27: =KopraTasa!G48 -> 1 | U27: =SUM(O27:Q27) -> -3 | V27: =SUM(R27:T27) -> 3 | W27: =SUM(U27:V27)/2 -> 0 | Y27: USDCAD | Z27: =KopraTasa!B56 -> 1 | AA27: =KopraTasa!C56 -> 1 | AB27: =KopraTasa!D56 -> 1 | AC27: =KopraTasa!E56 -> 1 | AD27: =KopraTasa!F56 -> -1 | AE27: =KopraTasa!G56 -> 1 | AF27: =SUM(Z27:AB27) -> 3 | AG27: =SUM(AC27:AE27) -> 1 | AH27: =SUM(AF27:AG27)/2 -> 2 | AJ27: GBPNZD | AK27: =KopraTasa!B64 -> -1 | AL27: =KopraTasa!C64 -> -1 | AM27: =KopraTasa!D64 -> -1 | AN27: =KopraTasa!E64 -> 1 | AO27: =KopraTasa!F64 -> 1 | AP27: =KopraTasa!G64 -> 1 | AQ27: =SUM(AK27:AM27) -> -3 | AR27: =SUM(AN27:AP27) -> 3 | AS27: =SUM(AQ27:AR27)/2 -> 0
C30: BASKET 1 | D30: TREND DIRECTION & STRENGTH | N30: BASKET | O30: TREND DIRECTION & STRENGTH | Y30: BASKET 1 | Z30: TREND DIRECTION & STRENGTH | AJ30: POINTER GUIDE
C31: BUY | D31: TIME FRAME | J31: TREND STRENGTH | N31: CORE | O31: TIME FRAME | U31: TREND STRENGTH | Y31: SELL | Z31: TIME FRAME | AF31: TREND STRENGTH | AJ31: TREND STRENGTH (TS) | AK31: 3 | AN31: 3 | AO31: 0.85 | AR31: BUY
D32: LOW TF | G32: HIGH TF | O32: LOW TF | R32: HIGH TF | Z32: LOW TF | AC32: HIGH TF | AK32: 2 | AN32: 1 | AO32: 0.65 | AR32: BUY
C33: STRONG | D33: M15 | E33: M30 | F33: H1 | G33: H4 | H33: D1 | I33: W1 | J33: L-TS | K33: HTS | L33: TS | N33: FIVE | O33: M15 | P33: M30 | Q33: H1 | R33: H4 | S33: D1 | T33: W1 | U33: L-TS | V33: HTS | W33: TS | Y33: STRONG | Z33: M15 | AA33: M30 | AB33: H1 | AC33: H4 | AD33: D1 | AE33: W1 | AF33: L-TS | AG33: HTS | AH33: TS | AK33: -1 TO 1 | AN33: 0 | AO33: -25% TO 25% | AR33: NO GO
C34: =KopraTasa!A72 -> EURCHF | D34: =KopraTasa!B72 -> 1 | E34: =KopraTasa!C72 -> 1 | F34: =KopraTasa!D72 -> 1 | G34: =KopraTasa!E72 -> 1 | H34: =KopraTasa!F72 -> 1 | I34: =KopraTasa!G72 -> 1 | J34: =SUM(D34:F34) -> 3 | K34: =SUM(G34:I34) -> 3 | L34: =SUM(J34:K34)/2 -> 3 | N34: EURJPY | O34: =KopraTasa!B66 -> 1 | P34: =KopraTasa!C66 -> 1 | Q34: =KopraTasa!D66 -> -1 | R34: =KopraTasa!E66 -> 1 | S34: =KopraTasa!F66 -> -1 | T34: =KopraTasa!G66 -> -1 | U34: =SUM(O34:Q34) -> 1 | V34: =SUM(R34:T34) -> -1 | W34: =SUM(U34:V34)/2 -> 0 | AF34: =SUM(Z34:AB34) -> 0 | AG34: =SUM(AC34:AE34) -> 0 | AH34: =SUM(AF34:AG34)/2 -> 0 | AK34: -2 | AN34: -1 | AO34: -65% | AR34: SELL
C35: =KopraTasa!A73 -> EURCHF | D35: =KopraTasa!B73 -> 1 | E35: =KopraTasa!C73 -> 1 | F35: =KopraTasa!D73 -> 1 | G35: =KopraTasa!E73 -> 1 | H35: =KopraTasa!F73 -> 1 | I35: =KopraTasa!G73 -> 1 | J35: =SUM(D35:F35) -> 3 | K35: =SUM(G35:I35) -> 3 | L35: =SUM(J35:K35)/2 -> 3 | N35: GBPJPY | O35: =KopraTasa!B67 -> 0 | P35: =KopraTasa!C67 -> 1 | Q35: =KopraTasa!D67 -> 1 | R35: =KopraTasa!E67 -> -1 | S35: =KopraTasa!F67 -> -1 | T35: =KopraTasa!G67 -> 1 | U35: =SUM(O35:Q35) -> 2 | V35: =SUM(R35:T35) -> -1 | W35: =SUM(U35:V35)/2 -> 0.5 | AF35: =SUM(Z35:AE35) -> 0 | AG35: =SUM(AC35:AE35) -> 0 | AH35: =SUM(AF35:AG35)/2 -> 0 | AK35: -3 | AN35: -3 | AO35: -85% | AR35: SELL
C36: =KopraTasa!A74 -> EURGBP | D36: =KopraTasa!B74 -> 1 | E36: =KopraTasa!C74 -> 1 | F36: =KopraTasa!D74 -> 1 | G36: =KopraTasa!E74 -> 1 | H36: =KopraTasa!F74 -> 1 | I36: =KopraTasa!G74 -> 1 | J36: =SUM(D36:F36) -> 3 | K36: =SUM(G36:I36) -> 3 | L36: =SUM(J36:K36)/2 -> 3 | N36: NZDUSD | O36: =KopraTasa!B68 -> 0 | P36: =KopraTasa!C68 -> 1 | Q36: =KopraTasa!D68 -> -1 | R36: =KopraTasa!E68 -> 1 | S36: =KopraTasa!F68 -> 1 | T36: =KopraTasa!G68 -> -1 | U36: =SUM(O36:Q36) -> 0 | V36: =SUM(R36:T36) -> 1 | W36: =SUM(U36:V36)/2 -> 0.5 | AF36: =SUM(Z36:AB36) -> 0 | AG36: =SUM(AC36:AE36) -> 0 | AH36: =SUM(AF36:AG36)/2 -> 0
C37: =KopraTasa!A75 -> EURGBP | D37: =KopraTasa!B75 -> 1 | E37: =KopraTasa!C75 -> 1 | F37: =KopraTasa!D75 -> 1 | G37: =KopraTasa!E75 -> 1 | H37: =KopraTasa!F75 -> 1 | I37: =KopraTasa!G75 -> 1 | J37: =SUM(D37:F37) -> 3 | K37: =SUM(G37:I37) -> 3 | L37: =SUM(J37:K37)/2 -> 3 | N37: GBPUSD | O37: =KopraTasa!B69 -> -1 | P37: =KopraTasa!C69 -> 1 | Q37: =KopraTasa!D69 -> -1 | R37: =KopraTasa!E69 -> 1 | S37: =KopraTasa!F69 -> 1 | T37: =KopraTasa!G69 -> -1 | U37: =SUM(O37:Q37) -> -1 | V37: =SUM(R37:T37) -> 1 | W37: =SUM(U37:V37)/2 -> 0 | AF37: =SUM(Z37:AB37) -> 0 | AG37: =SUM(AC37:AE37) -> 0 | AH37: =SUM(AF37:AG37)/2 -> 0 | AJ37: BASKET | AK37: TREND DIRECTION & STRENGTH
C38: =KopraTasa!A76 -> 0 | D38: =KopraTasa!B76 -> 0 | E38: =KopraTasa!C76 -> 0 | F38: =KopraTasa!D76 -> 0 | G38: =KopraTasa!E76 -> 0 | H38: =KopraTasa!F76 -> 0 | I38: =KopraTasa!G76 -> 0 | J38: =SUM(D38:F38) -> 0 | K38: =SUM(G38:I38) -> 0 | L38: =SUM(J38:K38)/2 -> 0 | N38: AUDJPY | O38: =KopraTasa!B70 -> 1 | P38: =KopraTasa!C70 -> 1 | Q38: =KopraTasa!D70 -> 1 | R38: =KopraTasa!E70 -> -1 | S38: =KopraTasa!F70 -> 1 | T38: =KopraTasa!G70 -> 1 | U38: =SUM(O38:Q38) -> 3 | V38: =SUM(R38:T38) -> 1 | W38: =SUM(U38:V38)/2 -> 2 | AF38: =SUM(Z38:AB38) -> 0 | AG38: =SUM(AC38:AE38) -> 0 | AH38: =SUM(AF38:AG38)/2 -> 0 | AJ38: SYNC C5 | AK38: TIME FRAME | AQ38: TREND STRENGTH
C39: =KopraTasa!A77 -> 0 | D39: =KopraTasa!B77 -> 0 | E39: =KopraTasa!C77 -> 0 | F39: =KopraTasa!D77 -> 0 | G39: =KopraTasa!E77 -> 0 | H39: =KopraTasa!F77 -> 0 | I39: =KopraTasa!G77 -> 0 | J39: =SUM(D39:F39) -> 0 | K39: =SUM(G39:I39) -> 0 | L39: =SUM(J39:K39)/2 -> 0 | U39: =SUM(O39:Q39) -> 0 | V39: =SUM(R39:T39) -> 0 | W39: =SUM(U39:V39)/2 -> 0 | AF39: =SUM(Z39:AB39) -> 0 | AG39: =SUM(AC39:AE39) -> 0 | AH39: =SUM(AF39:AG39)/2 -> 0 | AK39: LOW TF | AN39: HIGH TF
C40: =KopraTasa!A78 -> 0 | D40: =KopraTasa!B78 -> 0 | E40: =KopraTasa!C78 -> 0 | F40: =KopraTasa!D78 -> 0 | G40: =KopraTasa!E78 -> 0 | H40: =KopraTasa!F78 -> 0 | I40: =KopraTasa!G78 -> 0 | J40: =SUM(D40:F40) -> 0 | K40: =SUM(G40:I40) -> 0 | L40: =SUM(J40:K40)/2 -> 0 | U40: =SUM(O40:Q40) -> 0 | V40: =SUM(R40:T40) -> 0 | W40: =SUM(U40:V40)/2 -> 0 | AF40: =SUM(Z40:AB40) -> 0 | AG40: =SUM(AC40:AE40) -> 0 | AH40: =SUM(AF40:AG40)/2 -> 0 | AJ40: SELL | AK40: M15 | AL40: M30 | AM40: H1 | AN40: H4 | AO40: D1 | AP40: W1 | AQ40: L-TS | AR40: HTS | AS40: TS
AQ41: =SUM(AK41:AM41) -> 0 | AR41: =SUM(AN41:AP41) -> 0 | AS41: =SUM(AQ41:AR41)/2 -> 0
C42: BASKET 2 | D42: TREND DIRECTION & STRENGTH | Y42: BASKET 2 | Z42: TREND DIRECTION & STRENGTH | AQ42: =SUM(AK42:AM42) -> 0 | AR42: =SUM(AN42:AP42) -> 0 | AS42: =SUM(AQ42:AR42)/2 -> 0
C43: BUY | D43: TIME FRAME | J43: TREND STRENGTH | Y43: SELL | Z43: TIME FRAME | AF43: TREND STRENGTH | AQ43: =SUM(AK43:AM43) -> 0 | AR43: =SUM(AN43:AP43) -> 0 | AS43: =SUM(AQ43:AR43)/2 -> 0
D44: LOW TF | G44: HIGH TF | Z44: LOW TF | AC44: HIGH TF | AQ44: =SUM(AK44:AM44) -> 0 | AR44: =SUM(AN44:AP44) -> 0 | AS44: =SUM(AQ44:AR44)/2 -> 0
C45: MEDIUM | D45: M15 | E45: M30 | F45: H1 | G45: H4 | H45: D1 | I45: W1 | J45: L-TS | K45: HTS | L45: TS | Y45: MEDIUM | Z45: M15 | AA45: M30 | AB45: H1 | AC45: H4 | AD45: D1 | AE45: W1 | AF45: L-TS | AG45: HTS | AH45: TS | AQ45: =SUM(AK45:AM45) -> 0 | AR45: =SUM(AN45:AP45) -> 0 | AS45: =SUM(AQ45:AR45)/2 -> 0
J46: =SUM(D46:F46) -> 0 | K46: =SUM(G46:I46) -> 0 | L46: =SUM(J46:K46)/2 -> 0 | AF46: =SUM(Z46:AB46) -> 0 | AG46: =SUM(AC46:AE46) -> 0 | AH46: =SUM(AF46:AG46)/2 -> 0 | AQ46: =SUM(AK46:AM46) -> 0 | AR46: =SUM(AN46:AP46) -> 0 | AS46: =SUM(AQ46:AR46)/2 -> 0
J47: =SUM(D47:F47) -> 0 | K47: =SUM(G47:I47) -> 0 | L47: =SUM(J47:K47)/2 -> 0 | AF47: =SUM(Z47:AE47) -> 0 | AG47: =SUM(AC47:AE47) -> 0 | AH47: =SUM(AF47:AG47)/2 -> 0 | AQ47: =SUM(AK47:AM47) -> 0 | AR47: =SUM(AN47:AP47) -> 0 | AS47: =SUM(AQ47:AR47)/2 -> 0
J48: =SUM(D48:F48) -> 0 | K48: =SUM(G48:I48) -> 0 | L48: =SUM(J48:K48)/2 -> 0 | AF48: =SUM(Z48:AB48) -> 0 | AG48: =SUM(AC48:AE48) -> 0 | AH48: =SUM(AF48:AG48)/2 -> 0
J49: =SUM(D49:F49) -> 0 | K49: =SUM(G49:I49) -> 0 | L49: =SUM(J49:K49)/2 -> 0 | AF49: =SUM(Z49:AB49) -> 0 | AG49: =SUM(AC49:AE49) -> 0 | AH49: =SUM(AF49:AG49)/2 -> 0
J50: =SUM(D50:F50) -> 0 | K50: =SUM(G50:I50) -> 0 | L50: =SUM(J50:K50)/2 -> 0 | AF50: =SUM(Z50:AB50) -> 0 | AG50: =SUM(AC50:AE50) -> 0 | AH50: =SUM(AF50:AG50)/2 -> 0
J51: =SUM(D51:F51) -> 0 | K51: =SUM(G51:I51) -> 0 | L51: =SUM(J51:K51)/2 -> 0 | AF51: =SUM(Z51:AB51) -> 0 | AG51: =SUM(AC51:AE51) -> 0 | AH51: =SUM(AF51:AG51)/2 -> 0
J52: =SUM(D52:F52) -> 0 | K52: =SUM(G52:I52) -> 0 | L52: =SUM(J52:K52)/2 -> 0 | AF52: =SUM(Z52:AB52) -> 0 | AG52: =SUM(AC52:AE52) -> 0 | AH52: =SUM(AF52:AG52)/2 -> 0
