Workbook

Sheet New Main

Sheet EURUSD
A1: EURUSD 5 Min
A2: ='[1]100% RollOver_EURUSDH1'!A2 -> DATE | B2: ='[1]100% RollOver_EURUSDH1'!B2 -> HOUR | C2: ='[1]100% RollOver_EURUSDH1'!C2 -> OPEN | D2: ='[1]100% RollOver_EURUSDH1'!D2 -> HIGH | E2: ='[1]100% RollOver_EURUSDH1'!E2 -> LOW | F2: ='[1]100% RollOver_EURUSDH1'!F2 -> CLOSE | G2: O-C Diff | H2: Overall | I2: Spread
A3: ='[2]100% RollOver_EURUSDM5'!A3 -> 39654 | B3: ='[2]100% RollOver_EURUSDM5'!B3 -> 0.87152778 | C3: ='[2]100% RollOver_EURUSDM5'!C3 -> 1.5701 | D3: ='[2]100% RollOver_EURUSDM5'!D3 -> 1.5707 | E3: ='[2]100% RollOver_EURUSDM5'!E3 -> 1.5701 | F3: ='[2]100% RollOver_EURUSDM5'!F3 -> 1.5706 | G3: =C3-F3 -> -0.0005 | H3: =H4+G3 -> 0.0003 | I3: =H3-GBPUSD!H3 -> 0.0002
A4: ='[2]100% RollOver_EURUSDM5'!A4 -> 39654 | B4: ='[2]100% RollOver_EURUSDM5'!B4 -> 0.86805556 | C4: ='[2]100% RollOver_EURUSDM5'!C4 -> 1.5704 | D4: ='[2]100% RollOver_EURUSDM5'!D4 -> 1.5704 | E4: ='[2]100% RollOver_EURUSDM5'!E4 -> 1.5701 | F4: ='[2]100% RollOver_EURUSDM5'!F4 -> 1.5702 | G4: =C4-F4 -> 0.0002 | H4: =H5+G4 -> 0.0008 | I4: =H4-GBPUSD!H4 -> 0.0008
A5: ='[2]100% RollOver_EURUSDM5'!A5 -> 39654 | B5: ='[2]100% RollOver_EURUSDM5'!B5 -> 0.86458333 | C5: ='[2]100% RollOver_EURUSDM5'!C5 -> 1.5702 | D5: ='[2]100% RollOver_EURUSDM5'!D5 -> 1.5703 | E5: ='[2]100% RollOver_EURUSDM5'!E5 -> 1.5701 | F5: ='[2]100% RollOver_EURUSDM5'!F5 -> 1.5703 | G5: =C5-F5 -> -0.0001 | H5: =H6+G5 -> 0.0006 | I5: =H5-GBPUSD!H5 -> 0.0003
A6: ='[2]100% RollOver_EURUSDM5'!A6 -> 39654 | B6: ='[2]100% RollOver_EURUSDM5'!B6 -> 0.86111111 | C6: ='[2]100% RollOver_EURUSDM5'!C6 -> 1.5701 | D6: ='[2]100% RollOver_EURUSDM5'!D6 -> 1.5703 | E6: ='[2]100% RollOver_EURUSDM5'!E6 -> 1.5701 | F6: ='[2]100% RollOver_EURUSDM5'!F6 -> 1.5703 | G6: =C6-F6 -> -0.0002 | H6: =H7+G6 -> 0.0007 | I6: =H6-GBPUSD!H6 -> 0.0004
A7: ='[2]100% RollOver_EURUSDM5'!A7 -> 39654 | B7: ='[2]100% RollOver_EURUSDM5'!B7 -> 0.85763889 | C7: ='[2]100% RollOver_EURUSDM5'!C7 -> 1.5702 | D7: ='[2]100% RollOver_EURUSDM5'!D7 -> 1.5703 | E7: ='[2]100% RollOver_EURUSDM5'!E7 -> 1.5701 | F7: ='[2]100% RollOver_EURUSDM5'!F7 -> 1.5702 | G7: =C7-F7 -> 0 | H7: =H8+G7 -> 0.0009 | I7: =H7-GBPUSD!H7 -> 0.0004
A8: ='[2]100% RollOver_EURUSDM5'!A8 -> 39654 | B8: ='[2]100% RollOver_EURUSDM5'!B8 -> 0.85416667 | C8: ='[2]100% RollOver_EURUSDM5'!C8 -> 1.5699 | D8: ='[2]100% RollOver_EURUSDM5'!D8 -> 1.5701 | E8: ='[2]100% RollOver_EURUSDM5'!E8 -> 1.5696 | F8: ='[2]100% RollOver_EURUSDM5'!F8 -> 1.5701 | G8: =C8-F8 -> -0.0002 | H8: =H9+G8 -> 0.0009 | I8: =H8-GBPUSD!H8 -> 0.0004
A9: ='[2]100% RollOver_EURUSDM5'!A9 -> 39654 | B9: ='[2]100% RollOver_EURUSDM5'!B9 -> 0.85069444 | C9: ='[2]100% RollOver_EURUSDM5'!C9 -> 1.5697 | D9: ='[2]100% RollOver_EURUSDM5'!D9 -> 1.57 | E9: ='[2]100% RollOver_EURUSDM5'!E9 -> 1.5697 | F9: ='[2]100% RollOver_EURUSDM5'!F9 -> 1.57 | G9: =C9-F9 -> -0.0003 | H9: =H10+G9 -> 0.0011 | I9: =H9-GBPUSD!H9 -> 0.0006
A10: ='[2]100% RollOver_EURUSDM5'!A10 -> 39654 | B10: ='[2]100% RollOver_EURUSDM5'!B10 -> 0.84722222 | C10: ='[2]100% RollOver_EURUSDM5'!C10 -> 1.5695 | D10: ='[2]100% RollOver_EURUSDM5'!D10 -> 1.5699 | E10: ='[2]100% RollOver_EURUSDM5'!E10 -> 1.5695 | F10: ='[2]100% RollOver_EURUSDM5'!F10 -> 1.5698 | G10: =C10-F10 -> -0.0003 | H10: =H11+G10 -> 0.0014 | I10: =H10-GBPUSD!H10 -> 0.0008
A11: ='[2]100% RollOver_EURUSDM5'!A11 -> 39654 | B11: ='[2]100% RollOver_EURUSDM5'!B11 -> 0.84375 | C11: ='[2]100% RollOver_EURUSDM5'!C11 -> 1.5696 | D11: ='[2]100% RollOver_EURUSDM5'!D11 -> 1.5697 | E11: ='[2]100% RollOver_EURUSDM5'!E11 -> 1.5694 | F11: ='[2]100% RollOver_EURUSDM5'!F11 -> 1.5696 | G11: =C11-F11 -> 0 | H11: =H12+G11 -> 0.0017 | I11: =H11-GBPUSD!H11 -> 0.001
A12: ='[2]100% RollOver_EURUSDM5'!A12 -> 39654 | B12: ='[2]100% RollOver_EURUSDM5'!B12 -> 0.84027778 | C12: ='[2]100% RollOver_EURUSDM5'!C12 -> 1.5695 | D12: ='[2]100% RollOver_EURUSDM5'!D12 -> 1.5695 | E12: ='[2]100% RollOver_EURUSDM5'!E12 -> 1.5693 | F12: ='[2]100% RollOver_EURUSDM5'!F12 -> 1.5695 | G12: =C12-F12 -> 0 | H12: =H13+G12 -> 0.0017 | I12: =H12-GBPUSD!H12 -> 0.0011
A13: ='[2]100% RollOver_EURUSDM5'!A13 -> 39654 | B13: ='[2]100% RollOver_EURUSDM5'!B13 -> 0.83680556 | C13: ='[2]100% RollOver_EURUSDM5'!C13 -> 1.5695 | D13: ='[2]100% RollOver_EURUSDM5'!D13 -> 1.5698 | E13: ='[2]100% RollOver_EURUSDM5'!E13 -> 1.5695 | F13: ='[2]100% RollOver_EURUSDM5'!F13 -> 1.5696 | G13: =C13-F13 -> -0.0001 | H13: =H14+G13 -> 0.0017 | I13: =H13-GBPUSD!H13 -> 0.001
A14: ='[2]100% RollOver_EURUSDM5'!A14 -> 39654 | B14: ='[2]100% RollOver_EURUSDM5'!B14 -> 0.83333333 | C14: ='[2]100% RollOver_EURUSDM5'!C14 -> 1.5699 | D14: ='[2]100% RollOver_EURUSDM5'!D14 -> 1.5699 | E14: ='[2]100% RollOver_EURUSDM5'!E14 -> 1.5696 | F14: ='[2]100% RollOver_EURUSDM5'!F14 -> 1.5696 | G14: =C14-F14 -> 0.0003 | H14: =H15+G14 -> 0.0018 | I14: =H14-GBPUSD!H14 -> 0.001
... A290: ='[2]100% RollOver_EURUSDM5'!A290 -> 0 | B290: ='[2]100% RollOver_EURUSDM5'!B290 -> 0 | C290: ='[2]100% RollOver_EURUSDM5'!C290 -> 0 | D290: ='[2]100% RollOver_EURUSDM5'!D290 -> 0 | E290: ='[2]100% RollOver_EURUSDM5'!E290 -> 0 | F290: ='[2]100% RollOver_EURUSDM5'!F290 -> 0 | G290: =C290-F290 -> 0 | H290: =H291+G290 -> 0 | I290: =H290-GBPUSD!H290 -> 0
A291: ='[2]100% RollOver_EURUSDM5'!A291 -> 0 | B291: ='[2]100% RollOver_EURUSDM5'!B291 -> 0 | C291: ='[2]100% RollOver_EURUSDM5'!C291 -> 0 | D291: ='[2]100% RollOver_EURUSDM5'!D291 -> 0 | E291: ='[2]100% RollOver_EURUSDM5'!E291 -> 0 | F291: ='[2]100% RollOver_EURUSDM5'!F291 -> 0 | G291: =C291-F291 -> 0 | H291: =G292+G291 -> 0 | I291: =H291-GBPUSD!H291 -> 0
A292: ='[2]100% RollOver_EURUSDM5'!A292 -> 0 | B292: ='[2]100% RollOver_EURUSDM5'!B292 -> 0 | C292: ='[2]100% RollOver_EURUSDM5'!C292 -> 0 | D292: ='[2]100% RollOver_EURUSDM5'!D292 -> 0 | E292: ='[2]100% RollOver_EURUSDM5'!E292 -> 0 | F292: ='[2]100% RollOver_EURUSDM5'!F292 -> 0 | G292: =C292-F292 -> 0

Sheet GBPUSD
A1: GBPUSD 5 Min | F1: =([3]!EURUSDm) -> #REF!
A2: ='[1]100% RollOver_EURUSDH1'!A2 -> DATE | B2: ='[1]100% RollOver_EURUSDH1'!B2 -> HOUR | C2: ='[1]100% RollOver_EURUSDH1'!C2 -> OPEN | D2: ='[1]100% RollOver_EURUSDH1'!D2 -> HIGH | E2: ='[1]100% RollOver_EURUSDH1'!E2 -> LOW | F2: ='[1]100% RollOver_EURUSDH1'!F2 -> CLOSE | G2: O-C Diff | H2: Overall
A3: ='[4]100% RollOver_GBPUSDM5'!A3 -> 39654 | B3: ='[4]100% RollOver_GBPUSDM5'!B3 -> 0.87152778 | C3: ='[4]100% RollOver_GBPUSDM5'!C3 -> 1.9916 | D3: ='[4]100% RollOver_GBPUSDM5'!D3 -> 1.9916 | E3: ='[4]100% RollOver_GBPUSDM5'!E3 -> 1.9913 | F3: ='[4]100% RollOver_GBPUSDM5'!F3 -> 1.9915 | G3: =C3-F3 -> 0.0001 | H3: =H4+G3 -> 0.0001
A4: ='[4]100% RollOver_GBPUSDM5'!A4 -> 39654 | B4: ='[4]100% RollOver_GBPUSDM5'!B4 -> 0.86805556 | C4: ='[4]100% RollOver_GBPUSDM5'!C4 -> 1.9911 | D4: ='[4]100% RollOver_GBPUSDM5'!D4 -> 1.9916 | E4: ='[4]100% RollOver_GBPUSDM5'!E4 -> 1.9911 | F4: ='[4]100% RollOver_GBPUSDM5'!F4 -> 1.9914 | G4: =C4-F4 -> -0.0003 | H4: =H5+G4 -> -2.220446e-16
A5: ='[4]100% RollOver_GBPUSDM5'!A5 -> 39654 | B5: ='[4]100% RollOver_GBPUSDM5'!B5 -> 0.86458333 | C5: ='[4]100% RollOver_GBPUSDM5'!C5 -> 1.991 | D5: ='[4]100% RollOver_GBPUSDM5'!D5 -> 1.9912 | E5: ='[4]100% RollOver_GBPUSDM5'!E5 -> 1.9908 | F5: ='[4]100% RollOver_GBPUSDM5'!F5 -> 1.991 | G5: =C5-F5 -> 0 | H5: =H6+G5 -> 0.0003
A6: ='[4]100% RollOver_GBPUSDM5'!A6 -> 39654 | B6: ='[4]100% RollOver_GBPUSDM5'!B6 -> 0.86111111 | C6: ='[4]100% RollOver_GBPUSDM5'!C6 -> 1.991 | D6: ='[4]100% RollOver_GBPUSDM5'!D6 -> 1.9913 | E6: ='[4]100% RollOver_GBPUSDM5'!E6 -> 1.991 | F6: ='[4]100% RollOver_GBPUSDM5'!F6 -> 1.9912 | G6: =C6-F6 -> -0.0002 | H6: =H7+G6 -> 0.0003
A7: ='[4]100% RollOver_GBPUSDM5'!A7 -> 39654 | B7: ='[4]100% RollOver_GBPUSDM5'!B7 -> 0.85763889 | C7: ='[4]100% RollOver_GBPUSDM5'!C7 -> 1.9911 | D7: ='[4]100% RollOver_GBPUSDM5'!D7 -> 1.9911 | E7: ='[4]100% RollOver_GBPUSDM5'!E7 -> 1.9909 | F7: ='[4]100% RollOver_GBPUSDM5'!F7 -> 1.9911 | G7: =C7-F7 -> 0 | H7: =H8+G7 -> 0.0005
A8: ='[4]100% RollOver_GBPUSDM5'!A8 -> 39654 | B8: ='[4]100% RollOver_GBPUSDM5'!B8 -> 0.85416667 | C8: ='[4]100% RollOver_GBPUSDM5'!C8 -> 1.991 | D8: ='[4]100% RollOver_GBPUSDM5'!D8 -> 1.991 | E8: ='[4]100% RollOver_GBPUSDM5'!E8 -> 1.9906 | F8: ='[4]100% RollOver_GBPUSDM5'!F8 -> 1.991 | G8: =C8-F8 -> 0 | H8: =H9+G8 -> 0.0005
A9: ='[4]100% RollOver_GBPUSDM5'!A9 -> 39654 | B9: ='[4]100% RollOver_GBPUSDM5'!B9 -> 0.85069444 | C9: ='[4]100% RollOver_GBPUSDM5'!C9 -> 1.9908 | D9: ='[4]100% RollOver_GBPUSDM5'!D9 -> 1.9909 | E9: ='[4]100% RollOver_GBPUSDM5'!E9 -> 1.9905 | F9: ='[4]100% RollOver_GBPUSDM5'!F9 -> 1.9909 | G9: =C9-F9 -> -0.0001 | H9: =H10+G9 -> 0.0005
A10: ='[4]100% RollOver_GBPUSDM5'!A10 -> 39654 | B10: ='[4]100% RollOver_GBPUSDM5'!B10 -> 0.84722222 | C10: ='[4]100% RollOver_GBPUSDM5'!C10 -> 1.9906 | D10: ='[4]100% RollOver_GBPUSDM5'!D10 -> 1.9909 | E10: ='[4]100% RollOver_GBPUSDM5'!E10 -> 1.9906 | F10: ='[4]100% RollOver_GBPUSDM5'!F10 -> 1.9907 | G10: =C10-F10 -> -0.0001 | H10: =H11+G10 -> 0.0006
A11: ='[4]100% RollOver_GBPUSDM5'!A11 -> 39654 | B11: ='[4]100% RollOver_GBPUSDM5'!B11 -> 0.84375 | C11: ='[4]100% RollOver_GBPUSDM5'!C11 -> 1.9908 | D11: ='[4]100% RollOver_GBPUSDM5'!D11 -> 1.9909 | E11: ='[4]100% RollOver_GBPUSDM5'!E11 -> 1.9907 | F11: ='[4]100% RollOver_GBPUSDM5'!F11 -> 1.9907 | G11: =C11-F11 -> 0.0001 | H11: =H12+G11 -> 0.0007
A12: ='[4]100% RollOver_GBPUSDM5'!A12 -> 39654 | B12: ='[4]100% RollOver_GBPUSDM5'!B12 -> 0.84027778 | C12: ='[4]100% RollOver_GBPUSDM5'!C12 -> 1.9908 | D12: ='[4]100% RollOver_GBPUSDM5'!D12 -> 1.991 | E12: ='[4]100% RollOver_GBPUSDM5'!E12 -> 1.9907 | F12: ='[4]100% RollOver_GBPUSDM5'!F12 -> 1.9909 | G12: =C12-F12 -> -0.0001 | H12: =H13+G12 -> 0.0006
A13: ='[4]100% RollOver_GBPUSDM5'!A13 -> 39654 | B13: ='[4]100% RollOver_GBPUSDM5'!B13 -> 0.83680556 | C13: ='[4]100% RollOver_GBPUSDM5'!C13 -> 1.9908 | D13: ='[4]100% RollOver_GBPUSDM5'!D13 -> 1.9909 | E13: ='[4]100% RollOver_GBPUSDM5'!E13 -> 1.9904 | F13: ='[4]100% RollOver_GBPUSDM5'!F13 -> 1.9909 | G13: =C13-F13 -> -0.0001 | H13: =H14+G13 -> 0.0007
A14: ='[4]100% RollOver_GBPUSDM5'!A14 -> 39654 | B14: ='[4]100% RollOver_GBPUSDM5'!B14 -> 0.83333333 | C14: ='[4]100% RollOver_GBPUSDM5'!C14 -> 1.9903 | D14: ='[4]100% RollOver_GBPUSDM5'!D14 -> 1.9909 | E14: ='[4]100% RollOver_GBPUSDM5'!E14 -> 1.9903 | F14: ='[4]100% RollOver_GBPUSDM5'!F14 -> 1.9909 | G14: =C14-F14 -> -0.0006 | H14: =H15+G14 -> 0.0008
... A290: ='[4]100% RollOver_GBPUSDM5'!A290 -> 0 | B290: ='[4]100% RollOver_GBPUSDM5'!B290 -> 0 | C290: ='[4]100% RollOver_GBPUSDM5'!C290 -> 0 | D290: ='[4]100% RollOver_GBPUSDM5'!D290 -> 0 | E290: ='[4]100% RollOver_GBPUSDM5'!E290 -> 0 | F290: ='[4]100% RollOver_GBPUSDM5'!F290 -> 0 | G290: =C290-F290 -> 0 | H290: =H291+G290 -> 0
A291: ='[4]100% RollOver_GBPUSDM5'!A291 -> 0 | B291: ='[4]100% RollOver_GBPUSDM5'!B291 -> 0 | C291: ='[4]100% RollOver_GBPUSDM5'!C291 -> 0 | D291: ='[4]100% RollOver_GBPUSDM5'!D291 -> 0 | E291: ='[4]100% RollOver_GBPUSDM5'!E291 -> 0 | F291: ='[4]100% RollOver_GBPUSDM5'!F291 -> 0 | G291: =C291-F291 -> 0 | H291: =G292+G291 -> 0
A292: ='[4]100% RollOver_GBPUSDM5'!A292 -> 0 | B292: ='[4]100% RollOver_GBPUSDM5'!B292 -> 0 | C292: ='[4]100% RollOver_GBPUSDM5'!C292 -> 0 | D292: ='[4]100% RollOver_GBPUSDM5'!D292 -> 0 | E292: ='[4]100% RollOver_GBPUSDM5'!E292 -> 0 | F292: ='[4]100% RollOver_GBPUSDM5'!F292 -> 0 | G292: =C292-F292 -> 0

Sheet EU-GU Graph
